BEGIN:VCALENDAR
VERSION:2.0
PRODID:-//Centre for Christian Studies - ECPv6.15.17.1//NONSGML v1.0//EN
CALSCALE:GREGORIAN
METHOD:PUBLISH
X-ORIGINAL-URL:https://ccsonline.ca
X-WR-CALDESC:Events for Centre for Christian Studies
REFRESH-INTERVAL;VALUE=DURATION:PT1H
X-Robots-Tag:noindex
X-PUBLISHED-TTL:PT1H
BEGIN:VTIMEZONE
TZID:America/Winnipeg
BEGIN:DAYLIGHT
TZOFFSETFROM:-0600
TZOFFSETTO:-0500
TZNAME:CDT
DTSTART:20210314T080000
END:DAYLIGHT
BEGIN:STANDARD
TZOFFSETFROM:-0500
TZOFFSETTO:-0600
TZNAME:CST
DTSTART:20211107T070000
END:STANDARD
BEGIN:DAYLIGHT
TZOFFSETFROM:-0600
TZOFFSETTO:-0500
TZNAME:CDT
DTSTART:20220313T080000
END:DAYLIGHT
BEGIN:STANDARD
TZOFFSETFROM:-0500
TZOFFSETTO:-0600
TZNAME:CST
DTSTART:20221106T070000
END:STANDARD
BEGIN:DAYLIGHT
TZOFFSETFROM:-0600
TZOFFSETTO:-0500
TZNAME:CDT
DTSTART:20230312T080000
END:DAYLIGHT
BEGIN:STANDARD
TZOFFSETFROM:-0500
TZOFFSETTO:-0600
TZNAME:CST
DTSTART:20231105T070000
END:STANDARD
END:VTIMEZONE
BEGIN:VEVENT
DTSTART;TZID=America/Winnipeg:20221123T170000
DTEND;TZID=America/Winnipeg:20221123T190000
DTSTAMP:20260423T002108
CREATED:20221108T192531Z
LAST-MODIFIED:20221108T192531Z
UID:18084-1669222800-1669230000@ccsonline.ca
SUMMARY:Covenanting Service for Alan and Alcris
DESCRIPTION:The Central Council of the Centre for Christian Studies \nInvites you to attend the \nCovenanting Service and Reception\nWelcoming \nAlan Lai as new Principal \n& \nAlcris Limongi as new Program Staff \nWednesday\, November 23rd\, 2022 \n5:00 – 6:00 Covenanting Service (in-person & live-streamed) \n6:00 – 7:00 Reception \n\nWestworth United Church \n1750 Grosvenor Avenue\, Winnipeg \n\nLive-stream link: https://youtu.be/kLQ0SaWSDG0 \n  \nFor more information\, contact Cheryl Thiessen at \n204-783-4490 or office@ccsonline.ca
URL:https://ccsonline.ca/event/covenanting-service-for-alan-and-alcris/
LOCATION:Westworth United Church\, 1750 Grosvenor Ave\, Winnipeg\, MB\, Canada
ATTACH;FMTTYPE=image/jpeg:https://ccsonline.ca/wp-content/uploads/2022/11/Alcris-and-Alan-covenant.jpeg
ORGANIZER;CN="CCS":MAILTO:info@ccsonline.ca
END:VEVENT
END:VCALENDAR