BEGIN:VCALENDAR
VERSION:2.0
PRODID:-//Centre for Christian Studies - ECPv6.15.17.1//NONSGML v1.0//EN
CALSCALE:GREGORIAN
METHOD:PUBLISH
X-ORIGINAL-URL:https://ccsonline.ca
X-WR-CALDESC:Events for Centre for Christian Studies
REFRESH-INTERVAL;VALUE=DURATION:PT1H
X-Robots-Tag:noindex
X-PUBLISHED-TTL:PT1H
BEGIN:VTIMEZONE
TZID:America/Winnipeg
BEGIN:DAYLIGHT
TZOFFSETFROM:-0600
TZOFFSETTO:-0500
TZNAME:CDT
DTSTART:20250309T080000
END:DAYLIGHT
BEGIN:STANDARD
TZOFFSETFROM:-0500
TZOFFSETTO:-0600
TZNAME:CST
DTSTART:20251102T070000
END:STANDARD
BEGIN:DAYLIGHT
TZOFFSETFROM:-0600
TZOFFSETTO:-0500
TZNAME:CDT
DTSTART:20260308T080000
END:DAYLIGHT
BEGIN:STANDARD
TZOFFSETFROM:-0500
TZOFFSETTO:-0600
TZNAME:CST
DTSTART:20261101T070000
END:STANDARD
BEGIN:DAYLIGHT
TZOFFSETFROM:-0600
TZOFFSETTO:-0500
TZNAME:CDT
DTSTART:20270314T080000
END:DAYLIGHT
BEGIN:STANDARD
TZOFFSETFROM:-0500
TZOFFSETTO:-0600
TZNAME:CST
DTSTART:20271107T070000
END:STANDARD
END:VTIMEZONE
BEGIN:VEVENT
DTSTART;VALUE=DATE:20260113
DTEND;VALUE=DATE:20260220
DTSTAMP:20260421T193118
CREATED:20250811T193938Z
LAST-MODIFIED:20250811T193938Z
UID:20616-1768262400-1771545599@ccsonline.ca
SUMMARY:SC05 Spiritual Practice 2026
DESCRIPTION:Online Spiritual Care circle. Zoom sessions on Tuesdays and Thursdays. More info…
URL:https://ccsonline.ca/event/sc05-spiritual-practice-2026/
LOCATION:Online
CATEGORIES:Learning Circle
ATTACH;FMTTYPE=image/png:https://ccsonline.ca/wp-content/uploads/2019/04/sc-spiritualcare-icon.png
ORGANIZER;CN="CCS":MAILTO:info@ccsonline.ca
END:VEVENT
BEGIN:VEVENT
DTSTART;TZID=America/Winnipeg:20260116T120000
DTEND;TZID=America/Winnipeg:20260116T130000
DTSTAMP:20260421T193118
CREATED:20251217T211133Z
LAST-MODIFIED:20251217T211133Z
UID:21084-1768564800-1768568400@ccsonline.ca
SUMMARY:CCS Friday - Hope\, Hopelessness\, and Engaging the Real World
DESCRIPTION:Join us on Friday\, January 16 (noon CT\, 1pm ET\, 2pm AT\, 11am MT\, 10am PT) for an online discussion with David Driedger. David is a Mennonite pastor in Winnipeg and author of “Nothing Will Save Us: A Theology of Immeasurable Life”\, in which he explores structural violence and systemic racism and argues that those consider “nothing” by society may hold the key to salvation for people of faith. \nClick HERE to register for a zoom link. \nCCS Fridays: Online conversations to help us all to respond faithfully to emerging issues in local contexts.  These workshops are open to anyone who might be interested. Each session will be on a Friday from 12:00 to 1:00 CT and in the form of a Zoom workshop.  There will be a presentation that will be recorded for future viewing\, plus opportunities to engage with the ideas in small groups.
URL:https://ccsonline.ca/event/ccs-friday-hope-hopelessness-and-engaging-the-real-world/
LOCATION:Online
CATEGORIES:CCS Fridays
ATTACH;FMTTYPE=image/png:https://ccsonline.ca/wp-content/uploads/2020/09/CCS-Friday.png
ORGANIZER;CN="CCS":MAILTO:info@ccsonline.ca
END:VEVENT
END:VCALENDAR