BEGIN:VCALENDAR
VERSION:2.0
PRODID:-//Centre for Christian Studies - ECPv6.15.17.1//NONSGML v1.0//EN
CALSCALE:GREGORIAN
METHOD:PUBLISH
X-WR-CALNAME:Centre for Christian Studies
X-ORIGINAL-URL:https://ccsonline.ca
X-WR-CALDESC:Events for Centre for Christian Studies
REFRESH-INTERVAL;VALUE=DURATION:PT1H
X-Robots-Tag:noindex
X-PUBLISHED-TTL:PT1H
BEGIN:VTIMEZONE
TZID:America/Winnipeg
BEGIN:DAYLIGHT
TZOFFSETFROM:-0600
TZOFFSETTO:-0500
TZNAME:CDT
DTSTART:20240310T080000
END:DAYLIGHT
BEGIN:STANDARD
TZOFFSETFROM:-0500
TZOFFSETTO:-0600
TZNAME:CST
DTSTART:20241103T070000
END:STANDARD
BEGIN:DAYLIGHT
TZOFFSETFROM:-0600
TZOFFSETTO:-0500
TZNAME:CDT
DTSTART:20250309T080000
END:DAYLIGHT
BEGIN:STANDARD
TZOFFSETFROM:-0500
TZOFFSETTO:-0600
TZNAME:CST
DTSTART:20251102T070000
END:STANDARD
BEGIN:DAYLIGHT
TZOFFSETFROM:-0600
TZOFFSETTO:-0500
TZNAME:CDT
DTSTART:20260308T080000
END:DAYLIGHT
BEGIN:STANDARD
TZOFFSETFROM:-0500
TZOFFSETTO:-0600
TZNAME:CST
DTSTART:20261101T070000
END:STANDARD
END:VTIMEZONE
BEGIN:VEVENT
DTSTART;TZID=America/Winnipeg:20251212T120000
DTEND;TZID=America/Winnipeg:20251212T130000
DTSTAMP:20260419T204424
CREATED:20251107T172923Z
LAST-MODIFIED:20251211T220618Z
UID:21016-1765540800-1765544400@ccsonline.ca
SUMMARY:CCS Friday - Microagressions
DESCRIPTION:Join us on Friday\, December 12 (noon Central\, 11am MT\, 10am PT\, 1pm ET\, 2pm AT) for an online discussion of with special guest Samantha Miller from the United Church of Canada’s Indigenous and Racialized Youth Scholars program. Samantha is from Six Nations territory and is working in Hamilton. She is doing research into racial microaggressions – those small\, subtle\, often unconscious acts of discrimination and othering that have a cumulative impact on a person’s identity\, sense of belonging in community\, and relationship to the land. Come hear what she’s been learning and how it impacts you and your community. \nClick HERE to register for a zoom link. \nCCS Fridays: Online conversations to help us all to respond faithfully to emerging issues in local contexts.  These workshops are open to anyone who might be interested. Each session will be on a Friday from 12:00 to 1:00 CT and in the form of a Zoom workshop.  There will be a presentation that will be recorded for future viewing\, plus opportunities to engage with the ideas in small groups.
URL:https://ccsonline.ca/event/ccs-friday-microagressions/
LOCATION:Online
CATEGORIES:CCS Fridays
ATTACH;FMTTYPE=image/png:https://ccsonline.ca/wp-content/uploads/2020/09/CCS-Friday.png
ORGANIZER;CN="CCS":MAILTO:info@ccsonline.ca
END:VEVENT
END:VCALENDAR