BEGIN:VCALENDAR
VERSION:2.0
PRODID:-//Centre for Christian Studies - ECPv6.15.17.1//NONSGML v1.0//EN
CALSCALE:GREGORIAN
METHOD:PUBLISH
X-ORIGINAL-URL:https://ccsonline.ca
X-WR-CALDESC:Events for Centre for Christian Studies
REFRESH-INTERVAL;VALUE=DURATION:PT1H
X-Robots-Tag:noindex
X-PUBLISHED-TTL:PT1H
BEGIN:VTIMEZONE
TZID:America/Winnipeg
BEGIN:DAYLIGHT
TZOFFSETFROM:-0600
TZOFFSETTO:-0500
TZNAME:CDT
DTSTART:20240310T080000
END:DAYLIGHT
BEGIN:STANDARD
TZOFFSETFROM:-0500
TZOFFSETTO:-0600
TZNAME:CST
DTSTART:20241103T070000
END:STANDARD
BEGIN:DAYLIGHT
TZOFFSETFROM:-0600
TZOFFSETTO:-0500
TZNAME:CDT
DTSTART:20250309T080000
END:DAYLIGHT
BEGIN:STANDARD
TZOFFSETFROM:-0500
TZOFFSETTO:-0600
TZNAME:CST
DTSTART:20251102T070000
END:STANDARD
BEGIN:DAYLIGHT
TZOFFSETFROM:-0600
TZOFFSETTO:-0500
TZNAME:CDT
DTSTART:20260308T080000
END:DAYLIGHT
BEGIN:STANDARD
TZOFFSETFROM:-0500
TZOFFSETTO:-0600
TZNAME:CST
DTSTART:20261101T070000
END:STANDARD
END:VTIMEZONE
BEGIN:VEVENT
DTSTART;TZID=America/Winnipeg:20250913T110000
DTEND;TZID=America/Winnipeg:20250913T120000
DTSTAMP:20260421T125924
CREATED:20250910T195051Z
LAST-MODIFIED:20250910T195051Z
UID:20871-1757761200-1757764800@ccsonline.ca
SUMMARY:Introduction to the Spiral 2025
DESCRIPTION:Join us Saturday\, Sept 13 at 11am CDT (noon in Ontario\, 10am in Saskatchewan\, etc.) for an online introductory session on the CCS Spiral model of action-reflection. Useful for anyone who’s never used the Spiral before\, and a handy refresher for those who have. \nThe “Spiral” is a tool for personal and theological reflection that has been used by generations of Centre for Christian Studies students. Grounded in the liberation pedagogy of Paulo Freire and the work of educational theorists like Solberg\, Kolb\, and Frye\, the CCS Spiral helps users to make meaning of their lives through the lenses of Experience\, Feelings\, Thinking\, and Action. \nThis 90-minute intro is free to attend. Email info@ccsonline.ca for a link.
URL:https://ccsonline.ca/event/introduction-to-the-spiral-2025/
LOCATION:Online
CATEGORIES:Second Fridays,Workshop
ATTACH;FMTTYPE=image/jpeg:https://ccsonline.ca/wp-content/uploads/2017/04/stained-glass-spiral.jpg
ORGANIZER;CN="CCS":MAILTO:info@ccsonline.ca
END:VEVENT
BEGIN:VEVENT
DTSTART;VALUE=DATE:20250917
DTEND;VALUE=DATE:20250921
DTSTAMP:20260421T125924
CREATED:20250811T193346Z
LAST-MODIFIED:20250903T184507Z
UID:20612-1758067200-1758412799@ccsonline.ca
SUMMARY:IY1 Fall Integration Circle 2025
DESCRIPTION:
URL:https://ccsonline.ca/event/iy1-fall-integration-circle-2025/
CATEGORIES:Learning Circle
ATTACH;FMTTYPE=image/png:https://ccsonline.ca/wp-content/uploads/2017/06/integration-icon.png
ORGANIZER;CN="CCS":MAILTO:info@ccsonline.ca
END:VEVENT
BEGIN:VEVENT
DTSTART;TZID=America/Winnipeg:20250926T120000
DTEND;TZID=America/Winnipeg:20250926T130000
DTSTAMP:20260421T125924
CREATED:20250828T150229Z
LAST-MODIFIED:20250828T150229Z
UID:20819-1758888000-1758891600@ccsonline.ca
SUMMARY:CCS Friday - Our Daily Bread
DESCRIPTION:Join us for an online discussion of food and spirit. Our special guest will be Naomi Miller. As an Anglican Priest for 25 years and a recent graduate with a BASc in Applied Human Nutrition\, Naomi is making up and claiming the title of “Pastoral Nutritionist”. In this role she works to strengthen the connections between our sacramental meals\, and our daily bread\, to sift the truth of how to feed ourselves and each other well from the lies of diet and wellness advertising\, and to support people in the patterns and practices that nourish the body and spirit. Naomi currently serves as Rector of the Church of the Apostles\, Guelph. \nClick HERE to register for a Zoom link.\nCCS Fridays: Online conversations to help us all to respond faithfully to emerging issues in local contexts.  These workshops are open to anyone who might be interested. Each session will be on a Friday from 12:00 to 1:00 CT and in the form of a Zoom workshop.  There will be a presentation that will be recorded for future viewing\, plus opportunities to engage with the ideas in small groups.
URL:https://ccsonline.ca/event/ccs-friday-our-daily-bread/
LOCATION:Online
CATEGORIES:CCS Fridays
ATTACH;FMTTYPE=image/png:https://ccsonline.ca/wp-content/uploads/2020/09/CCS-Friday.png
ORGANIZER;CN="CCS":MAILTO:info@ccsonline.ca
END:VEVENT
END:VCALENDAR