BEGIN:VCALENDAR
VERSION:2.0
PRODID:-//Centre for Christian Studies - ECPv6.15.17.1//NONSGML v1.0//EN
CALSCALE:GREGORIAN
METHOD:PUBLISH
X-WR-CALNAME:Centre for Christian Studies
X-ORIGINAL-URL:https://ccsonline.ca
X-WR-CALDESC:Events for Centre for Christian Studies
REFRESH-INTERVAL;VALUE=DURATION:PT1H
X-Robots-Tag:noindex
X-PUBLISHED-TTL:PT1H
BEGIN:VTIMEZONE
TZID:America/Winnipeg
BEGIN:DAYLIGHT
TZOFFSETFROM:-0600
TZOFFSETTO:-0500
TZNAME:CDT
DTSTART:20230312T080000
END:DAYLIGHT
BEGIN:STANDARD
TZOFFSETFROM:-0500
TZOFFSETTO:-0600
TZNAME:CST
DTSTART:20231105T070000
END:STANDARD
BEGIN:DAYLIGHT
TZOFFSETFROM:-0600
TZOFFSETTO:-0500
TZNAME:CDT
DTSTART:20240310T080000
END:DAYLIGHT
BEGIN:STANDARD
TZOFFSETFROM:-0500
TZOFFSETTO:-0600
TZNAME:CST
DTSTART:20241103T070000
END:STANDARD
BEGIN:DAYLIGHT
TZOFFSETFROM:-0600
TZOFFSETTO:-0500
TZNAME:CDT
DTSTART:20250309T080000
END:DAYLIGHT
BEGIN:STANDARD
TZOFFSETFROM:-0500
TZOFFSETTO:-0600
TZNAME:CST
DTSTART:20251102T070000
END:STANDARD
END:VTIMEZONE
BEGIN:VEVENT
DTSTART;TZID=America/Winnipeg:20240611T173000
DTEND;TZID=America/Winnipeg:20240611T190000
DTSTAMP:20260415T014807
CREATED:20240526T201138Z
LAST-MODIFIED:20240607T162136Z
UID:19481-1718127000-1718132400@ccsonline.ca
SUMMARY:Farewell Picnic for Lori Stewart
DESCRIPTION:After ten years as CCS’s Development Coordinator\, Lori Stewart is retiring in June. During her time in the role Lori has been a key part of building and maintaining the CCS community. \nYou are invited to a farewell picnic on Tuesday\, June 11\, at 5:30pm in Assiniboine Park\, Winnipeg. Potluck. If you can\, please bring a lawn chair and some food to share. (There will be cake!) \nUPDATE: Where exactly in Assiniboine Park? Picnic Site #9. See below for a map and directions. If the weather is bad on the 11th we’ll relocate to the CCS offices at 60 Maryland. (RSVP to info@ccsonline.ca and we’ll send you an email with updates. You can also check the CCS website on the 11th.) \nNot in Winnipeg but would still like a chance to wish Lori well and thank her for all her phone calls and emails and cards and letters? We’ve got you covered. Earlier that afternoon (3pm Central Daylight Time\, 2pm Mountain\, 1pm Pacific\, 4pm Eastern\, 5pm Atlantic) we’ll be having a casual online tea. Log in with a cuppa and congratulate Lori on her retirement. Register for a zoom link by clicking HERE. \n\nDirections: Turn Right at the Pavilion; Left at the big P sign; keep right\, past the Duck Pond and the back of the Zoo\, keep going a ways.  Site #9 is the first one on the right. Parking is at the side of the road.
URL:https://ccsonline.ca/event/farewell-picnic-for-lori-stewart/
LOCATION:Assiniboine Park\, Winnipeg
ATTACH;FMTTYPE=image/jpeg:https://ccsonline.ca/wp-content/uploads/2024/05/Lori-w-flowers.jpg
ORGANIZER;CN="CCS":MAILTO:info@ccsonline.ca
END:VEVENT
BEGIN:VEVENT
DTSTART;VALUE=DATE:20240617
DTEND;VALUE=DATE:20240629
DTSTAMP:20260415T014807
CREATED:20240126T151736Z
LAST-MODIFIED:20240126T151736Z
UID:19159-1718582400-1719619199@ccsonline.ca
SUMMARY:Learning on Purpose 2024
DESCRIPTION:Learning on Purpose: Changing Leadership for a Changing World is the Centre for Christian Studies’ 2-week intensive leadership development module.  It is a practical\, holistic\, hands-on\, learning community experience\, and those who take it come out feeling transformed (in a good way!). Register for Learning on Purpose. \nIn 2024 Learning of Purpose will be held June 17-28 in Montreal\, QC! \nMore information…
URL:https://ccsonline.ca/event/learning-on-purpose-2024/
LOCATION:Merging Waters Pastoral Charge\, 24 Maple St\, Sainte-Anne-de-Bellevue\, QC\, H9X 2E1\, Canada
CATEGORIES:Learning Circle
ATTACH;FMTTYPE=image/png:https://ccsonline.ca/wp-content/uploads/2017/06/learning-on-purpose-icon.png
ORGANIZER;CN="CCS":MAILTO:info@ccsonline.ca
END:VEVENT
END:VCALENDAR