BEGIN:VCALENDAR
VERSION:2.0
PRODID:-//Centre for Christian Studies - ECPv6.15.17.1//NONSGML v1.0//EN
CALSCALE:GREGORIAN
METHOD:PUBLISH
X-ORIGINAL-URL:https://ccsonline.ca
X-WR-CALDESC:Events for Centre for Christian Studies
REFRESH-INTERVAL;VALUE=DURATION:PT1H
X-Robots-Tag:noindex
X-PUBLISHED-TTL:PT1H
BEGIN:VTIMEZONE
TZID:America/Winnipeg
BEGIN:DAYLIGHT
TZOFFSETFROM:-0600
TZOFFSETTO:-0500
TZNAME:CDT
DTSTART:20230312T080000
END:DAYLIGHT
BEGIN:STANDARD
TZOFFSETFROM:-0500
TZOFFSETTO:-0600
TZNAME:CST
DTSTART:20231105T070000
END:STANDARD
BEGIN:DAYLIGHT
TZOFFSETFROM:-0600
TZOFFSETTO:-0500
TZNAME:CDT
DTSTART:20240310T080000
END:DAYLIGHT
BEGIN:STANDARD
TZOFFSETFROM:-0500
TZOFFSETTO:-0600
TZNAME:CST
DTSTART:20241103T070000
END:STANDARD
BEGIN:DAYLIGHT
TZOFFSETFROM:-0600
TZOFFSETTO:-0500
TZNAME:CDT
DTSTART:20250309T080000
END:DAYLIGHT
BEGIN:STANDARD
TZOFFSETFROM:-0500
TZOFFSETTO:-0600
TZNAME:CST
DTSTART:20251102T070000
END:STANDARD
END:VTIMEZONE
BEGIN:VEVENT
DTSTART;TZID=America/Winnipeg:20240315T120000
DTEND;TZID=America/Winnipeg:20240315T130000
DTSTAMP:20260419T172552
CREATED:20240222T204750Z
LAST-MODIFIED:20240222T204750Z
UID:19217-1710504000-1710507600@ccsonline.ca
SUMMARY:March CCS Friday - The Ecology of Faith Formation
DESCRIPTION:Join us on Friday\, March 15 (noon Central\, 1pm Eastern\, 11am Mountain\, 10am Pacific\, 2pm Atlantic) for an online conversation about the eco-system of faith formation in congregations. Our special guest will be UCC Growth Animator Greg Smith-Young. \nWithin creation\, ecosystems form as different and diverse creatures (living and non-living) interact together. Each part plays a vital role in making the whole. Ecosystems are about interdependence and integration. What can happen when we bring an “ecosystem” way of thinking into the faith formation work of congregations? Join us as we imagine the possibilities. \nGreg Smith-Young (he/him) is a Growth Animator with the United Church of Canada. He serves alongside existing and newly-forming communities of faith in southwest Ontario\, helping them to share in what Jesus is already doing in their places: inviting\, welcoming\, engaging\, forming disciples\, and sending to share in God’s Presence. \nCCS Fridays are free. Please register to receive a zoom link. \nCCS Fridays: Online conversations to help us all to respond faithfully to emerging issues in local contexts.  These workshops are open to anyone who might be interested. Each session will be on a Friday from 12:00 to 1:00 CT and in the form of a Zoom workshop.  There will be a presentation that will be recorded for future viewing\, plus opportunities to engage with the ideas in small groups.
URL:https://ccsonline.ca/event/march-ccs-friday-the-ecology-of-faith-formation/
LOCATION:Online
CATEGORIES:Second Fridays
ATTACH;FMTTYPE=image/png:https://ccsonline.ca/wp-content/uploads/2020/09/CCS-Friday.png
ORGANIZER;CN="CCS":MAILTO:info@ccsonline.ca
END:VEVENT
BEGIN:VEVENT
DTSTART;TZID=America/Winnipeg:20240319T173000
DTEND;TZID=America/Winnipeg:20240319T183000
DTSTAMP:20260419T172552
CREATED:20240306T144636Z
LAST-MODIFIED:20240306T144636Z
UID:19240-1710869400-1710873000@ccsonline.ca
SUMMARY:CCS Open House
DESCRIPTION:Do you have questions about the Centre for Christian Studies? Curious about Diaconal Ministry? Looking for continuing education possibilities? Wanting a different kind of education that brings together community\, self-awareness\, social justice\, and faith-in-action? Come hang hang out with us online for a bit on March 19\, 2024 (5:30-6:30 Central\, 4:30 Mountain\, 3:30 Pacific\, 6:30 Eastern\, 7:30 Atlantic) \nThe Centre for Christian Studies is a national theological school grounded in the tradition of diakonia. We prepare people for ministries in the United Church of Canada and the Anglican Church of Canada\, and offer lifelong learning for anyone who wants to deepen their faith-in-action. \nClick HERE to register for a link.
URL:https://ccsonline.ca/event/ccs-open-house/
LOCATION:Online
ATTACH;FMTTYPE=image/png:https://ccsonline.ca/wp-content/uploads/2022/03/2022-open-house.png
ORGANIZER;CN="CCS":MAILTO:info@ccsonline.ca
END:VEVENT
END:VCALENDAR