BEGIN:VCALENDAR
VERSION:2.0
PRODID:-//Centre for Christian Studies - ECPv6.15.17.1//NONSGML v1.0//EN
CALSCALE:GREGORIAN
METHOD:PUBLISH
X-WR-CALNAME:Centre for Christian Studies
X-ORIGINAL-URL:https://ccsonline.ca
X-WR-CALDESC:Events for Centre for Christian Studies
REFRESH-INTERVAL;VALUE=DURATION:PT1H
X-Robots-Tag:noindex
X-PUBLISHED-TTL:PT1H
BEGIN:VTIMEZONE
TZID:America/Winnipeg
BEGIN:DAYLIGHT
TZOFFSETFROM:-0600
TZOFFSETTO:-0500
TZNAME:CDT
DTSTART:20220313T080000
END:DAYLIGHT
BEGIN:STANDARD
TZOFFSETFROM:-0500
TZOFFSETTO:-0600
TZNAME:CST
DTSTART:20221106T070000
END:STANDARD
BEGIN:DAYLIGHT
TZOFFSETFROM:-0600
TZOFFSETTO:-0500
TZNAME:CDT
DTSTART:20230312T080000
END:DAYLIGHT
BEGIN:STANDARD
TZOFFSETFROM:-0500
TZOFFSETTO:-0600
TZNAME:CST
DTSTART:20231105T070000
END:STANDARD
BEGIN:DAYLIGHT
TZOFFSETFROM:-0600
TZOFFSETTO:-0500
TZNAME:CDT
DTSTART:20240310T080000
END:DAYLIGHT
BEGIN:STANDARD
TZOFFSETFROM:-0500
TZOFFSETTO:-0600
TZNAME:CST
DTSTART:20241103T070000
END:STANDARD
END:VTIMEZONE
BEGIN:VEVENT
DTSTART;VALUE=DATE:20230110
DTEND;VALUE=DATE:20230217
DTSTAMP:20260419T204713
CREATED:20230124T202955Z
LAST-MODIFIED:20230124T202955Z
UID:18246-1673308800-1676591999@ccsonline.ca
SUMMARY:Living Scripture 2023
DESCRIPTION:A 6-week online Education and Worship learning circle on practical bible study\, understanding and interpreting the bible in context\, and the theology of revelation. More information…
URL:https://ccsonline.ca/event/living-scripture-2023/
CATEGORIES:Learning Circle
ATTACH;FMTTYPE=image/png:https://ccsonline.ca/wp-content/uploads/2017/06/ed-scripture-icon.png
ORGANIZER;CN="CCS":MAILTO:info@ccsonline.ca
END:VEVENT
BEGIN:VEVENT
DTSTART;TZID=America/Winnipeg:20230210T120000
DTEND;TZID=America/Winnipeg:20230210T130000
DTSTAMP:20260419T204713
CREATED:20221222T171911Z
LAST-MODIFIED:20221222T171911Z
UID:18190-1676030400-1676034000@ccsonline.ca
SUMMARY:CCS Friday - The Power of the Tithe
DESCRIPTION:Join us on Friday\, February 10\, 2023 at noon (Winnipeg time) for an online discussion of personal finances for people of faith\, and the impacts of tithing for the donor and for the church. Our special guest is Glenn Morison. Glenn is on a short list of people who have worked both as a prison chaplain and as a stock broker. He is an ordained United Church Minister who has worshipped with the Quaker Meeting in Winnipeg for the last 11 years. \nThis would be a great session for church treasurers\, stewardship committees\, and anyone interested in how to relate to money faithfully. \nCCS Fridays events are free. Please register to receive a zoom link. \nNote: Glenn is also offering a 2-session workshop on personal finances for clergy through CCS. Part one is in February and part two is in May. \nCCS Fridays:\nOnline conversations to help us all to respond faithfully to emerging issues in local contexts.  These workshops are open to anyone who might be interested. Each session will be on a Friday from 12:00 to 1:00 (Winnipeg time) and in the form of a Zoom workshop.  There will be a presentation that will be recorded for future viewing\, plus opportunities to engage with the ideas in small groups.
URL:https://ccsonline.ca/event/ccs-friday-the-power-of-the-tithe/
LOCATION:Online
CATEGORIES:CCS Fridays
ATTACH;FMTTYPE=image/png:https://ccsonline.ca/wp-content/uploads/2020/09/CCS-Friday.png
ORGANIZER;CN="CCS":MAILTO:info@ccsonline.ca
END:VEVENT
BEGIN:VEVENT
DTSTART;TZID=America/Winnipeg:20230220T180000
DTEND;TZID=America/Winnipeg:20230220T193000
DTSTAMP:20260419T204713
CREATED:20230209T210517Z
LAST-MODIFIED:20230210T171110Z
UID:18293-1676916000-1676921400@ccsonline.ca
SUMMARY:Black and Diaconal: A Deepening Conversation
DESCRIPTION:Monday\, February 20 at 6:00 pm CST (7 Eastern\, 5 Mountain\, etc.) \nJoin us for an online panel discussion with some of the Black diaconal ministers and deacons in the United Church and Anglican Church in Canada. (We are taking as a launching point the 2022 interview in Broadview magazine with CCS student Lisa Byer-de Wever\, CCS grad Charmaine Bailey\, and friend of CCS Marlene Britton.) We will explore how these identities inform each other\, the challenges they pose in the church today\, and the gifts these perspectives bring for the people of God. \nThis is a day off for many in Canada\, and a good opportunity to engage in thoughtful reflection and spirited conversation. \nThis event is free. Please click [HERE] to register.
URL:https://ccsonline.ca/event/black-and-diaconal-a-deepening-conversation/
LOCATION:Online
ATTACH;FMTTYPE=image/jpeg:https://ccsonline.ca/wp-content/uploads/2022/07/Broadview-Lisa-Marlene-Charmain.jpg
ORGANIZER;CN="CCS":MAILTO:info@ccsonline.ca
END:VEVENT
BEGIN:VEVENT
DTSTART;TZID=America/Winnipeg:20230224T120000
DTEND;TZID=America/Winnipeg:20230224T133000
DTSTAMP:20260419T204713
CREATED:20221222T173814Z
LAST-MODIFIED:20221222T174406Z
UID:18192-1677240000-1677245400@ccsonline.ca
SUMMARY:Personal Finances for Clergy Workshop - Session 1
DESCRIPTION:Glenn Morison is on a short list of people who have worked both as a prison chaplain and as a stock broker. He is an ordained United Church Minister who has worshipped with the Quaker Meeting in Winnipeg for the last 11 years. \nThis two-session online workshop will focus on things he wished he knew about money earlier in his ministry career\, including savings\, pensions\, investments\, and budgeting. Session one will focus on theological approaches to personal finances. Session two\, a month or so later\, will focus on ways to make and improve your financial stability. \n\nSession 1 will be February 24\, 2023\, 12:00-1:30pm CST\nSession 2 will be May 5\, 2023\, 12:00-1:30pm CST\n\nThese workshops will be especially beneficial to ministry students and new ministers\, but are useful for people in any stage of ministry. For more information\, email Scott at sdouglas@ccsonline.ca or click [HERE] to register for a link.
URL:https://ccsonline.ca/event/personal-finances-for-clergy-workshop-session-1/
LOCATION:Online
ATTACH;FMTTYPE=image/jpeg:https://ccsonline.ca/wp-content/uploads/2022/12/money.jpg
ORGANIZER;CN="CCS":MAILTO:info@ccsonline.ca
END:VEVENT
BEGIN:VEVENT
DTSTART;TZID=America/Winnipeg:20230227T180000
DTEND;TZID=America/Winnipeg:20230227T193000
DTSTAMP:20260419T204713
CREATED:20230210T171008Z
LAST-MODIFIED:20230216T205659Z
UID:18297-1677520800-1677526200@ccsonline.ca
SUMMARY:A Celebration of African/Caribbean Heritage in Canada
DESCRIPTION:Monday\, February 27th at 6:00 pm CST (7pm in Ontario\, 5pm in Alberta\, etc.) \nJoin us for an online community celebration of African/Caribbean cultures in Canada. Our session will start with a worship service\, followed by choose-your-own breakout rooms where you can experience and learn about some of the music\, cooking\, fabrics\, storytelling\, etc. that are a part of African/Caribbean Canadian heritage. It will be a fun time of sharing and connecting. \nThis event is free. Please click [HERE] to register.
URL:https://ccsonline.ca/event/a-celebration-of-black-cultures/
LOCATION:Online
ATTACH;FMTTYPE=image/jpeg:https://ccsonline.ca/wp-content/uploads/2023/02/celebration-of-black-cultures.jpg
ORGANIZER;CN="CCS":MAILTO:info@ccsonline.ca
END:VEVENT
END:VCALENDAR