BEGIN:VCALENDAR
VERSION:2.0
PRODID:-//Centre for Christian Studies - ECPv6.15.17.1//NONSGML v1.0//EN
CALSCALE:GREGORIAN
METHOD:PUBLISH
X-ORIGINAL-URL:https://ccsonline.ca
X-WR-CALDESC:Events for Centre for Christian Studies
REFRESH-INTERVAL;VALUE=DURATION:PT1H
X-Robots-Tag:noindex
X-PUBLISHED-TTL:PT1H
BEGIN:VTIMEZONE
TZID:America/Winnipeg
BEGIN:DAYLIGHT
TZOFFSETFROM:-0600
TZOFFSETTO:-0500
TZNAME:CDT
DTSTART:20210314T080000
END:DAYLIGHT
BEGIN:STANDARD
TZOFFSETFROM:-0500
TZOFFSETTO:-0600
TZNAME:CST
DTSTART:20211107T070000
END:STANDARD
BEGIN:DAYLIGHT
TZOFFSETFROM:-0600
TZOFFSETTO:-0500
TZNAME:CDT
DTSTART:20220313T080000
END:DAYLIGHT
BEGIN:STANDARD
TZOFFSETFROM:-0500
TZOFFSETTO:-0600
TZNAME:CST
DTSTART:20221106T070000
END:STANDARD
BEGIN:DAYLIGHT
TZOFFSETFROM:-0600
TZOFFSETTO:-0500
TZNAME:CDT
DTSTART:20230312T080000
END:DAYLIGHT
BEGIN:STANDARD
TZOFFSETFROM:-0500
TZOFFSETTO:-0600
TZNAME:CST
DTSTART:20231105T070000
END:STANDARD
END:VTIMEZONE
BEGIN:VEVENT
DTSTART;TZID=America/Winnipeg:20221202T120000
DTEND;TZID=America/Winnipeg:20221202T130000
DTSTAMP:20260422T031710
CREATED:20221121T170615Z
LAST-MODIFIED:20221121T170804Z
UID:18106-1669982400-1669986000@ccsonline.ca
SUMMARY:CCS Friday - Lambeth Learnings
DESCRIPTION:Join us on Friday\, Dec 2\, 2022\, for an online discussion of this year’s Lambeth Conference in England. The Lambeth Conference is a meeting of bishops in the worldwide Anglican Communion\, held every decade. What were the important Lambeth learnings about relating and making decisions in a worldwide communion?  In this session we will hear what a Lambeth participant learned and discuss how these insights could inform inter-church and ecumenical relations. Our special guest will be Bishop Geoffrey Woodcroft\, bishop of the Diocese of Rupert’s Land. \nClick [HERE] to register. \nCCS Fridays:\nOnline conversations to help us all to respond faithfully to emerging issues in local contexts.  These workshops are open to anyone who might be interested. Each session will be on a Friday from 12:00 to 1:00 (Winnipeg time) and in the form of a Zoom workshop.  There will be a presentation that will be recorded for future viewing\, plus opportunities to engage with the ideas in small groups. \n 
URL:https://ccsonline.ca/event/ccs-friday-lambeth-learnings/
LOCATION:Online
CATEGORIES:CCS Fridays
ATTACH;FMTTYPE=image/gif:https://ccsonline.ca/wp-content/uploads/2013/08/second-fridays-logo.gif
ORGANIZER;CN="CCS":MAILTO:info@ccsonline.ca
END:VEVENT
BEGIN:VEVENT
DTSTART;TZID=America/Winnipeg:20221214T160000
DTEND;TZID=America/Winnipeg:20221214T180000
DTSTAMP:20260422T031710
CREATED:20221125T193751Z
LAST-MODIFIED:20221125T193751Z
UID:18129-1671033600-1671040800@ccsonline.ca
SUMMARY:Holiday Open House 2022
DESCRIPTION:If you are in the Winnipeg area\, please join us for a Christmas open house on Wednesday\, Dec. 14th from 4:00 to 6:00 pm. Chat with the staff. Connect with other members of the CCS community. Get a tour of the building if you like. Pop in and say hi on your way home from work. We’ve decided not to do a whole carol singing thing like we used to do pre-Covid\, but we sure would like to see you and give you a chance to meet new members of staff if you haven’t already. \nThe Centre for Christian Studies is at 60 Maryland St\, Winnipeg\, MB.
URL:https://ccsonline.ca/event/holiday-open-house-2022/
LOCATION:Woodsworth House\, 60 Maryland Street\, Winnipeg\, Manitoba\, Canada
ATTACH;FMTTYPE=image/jpeg:https://ccsonline.ca/wp-content/uploads/2015/12/cookies1.jpg
ORGANIZER;CN="CCS":MAILTO:info@ccsonline.ca
END:VEVENT
END:VCALENDAR