BEGIN:VCALENDAR
VERSION:2.0
PRODID:-//Centre for Christian Studies - ECPv6.15.17.1//NONSGML v1.0//EN
CALSCALE:GREGORIAN
METHOD:PUBLISH
X-WR-CALNAME:Centre for Christian Studies
X-ORIGINAL-URL:https://ccsonline.ca
X-WR-CALDESC:Events for Centre for Christian Studies
REFRESH-INTERVAL;VALUE=DURATION:PT1H
X-Robots-Tag:noindex
X-PUBLISHED-TTL:PT1H
BEGIN:VTIMEZONE
TZID:America/Winnipeg
BEGIN:DAYLIGHT
TZOFFSETFROM:-0600
TZOFFSETTO:-0500
TZNAME:CDT
DTSTART:20210314T080000
END:DAYLIGHT
BEGIN:STANDARD
TZOFFSETFROM:-0500
TZOFFSETTO:-0600
TZNAME:CST
DTSTART:20211107T070000
END:STANDARD
BEGIN:DAYLIGHT
TZOFFSETFROM:-0600
TZOFFSETTO:-0500
TZNAME:CDT
DTSTART:20220313T080000
END:DAYLIGHT
BEGIN:STANDARD
TZOFFSETFROM:-0500
TZOFFSETTO:-0600
TZNAME:CST
DTSTART:20221106T070000
END:STANDARD
BEGIN:DAYLIGHT
TZOFFSETFROM:-0600
TZOFFSETTO:-0500
TZNAME:CDT
DTSTART:20230312T080000
END:DAYLIGHT
BEGIN:STANDARD
TZOFFSETFROM:-0500
TZOFFSETTO:-0600
TZNAME:CST
DTSTART:20231105T070000
END:STANDARD
END:VTIMEZONE
BEGIN:VEVENT
DTSTART;VALUE=DATE:20221012
DTEND;VALUE=DATE:20221019
DTSTAMP:20260422T213955
CREATED:20220920T190604Z
LAST-MODIFIED:20220920T190604Z
UID:17842-1665532800-1666137599@ccsonline.ca
SUMMARY:Ministry as Community-building 2022
DESCRIPTION:October 12-18\, 2022 will be Ministry as Community-building. Healthy community can be both the goal and the path to social justice. This week-long intensive will explore the challenges and the joys of community and the role of the church in creating and maintaining healthy and just communities.
URL:https://ccsonline.ca/event/ministry-as-community-building-2022/
LOCATION:Woodsworth House\, 60 Maryland Street\, Winnipeg\, Manitoba\, Canada
CATEGORIES:Learning Circle
ATTACH;FMTTYPE=image/png:https://ccsonline.ca/wp-content/uploads/2017/06/sj-community-icon.png
ORGANIZER;CN="CCS":MAILTO:info@ccsonline.ca
END:VEVENT
BEGIN:VEVENT
DTSTART;VALUE=DATE:20221020
DTEND;VALUE=DATE:20221027
DTSTAMP:20260422T213955
CREATED:20220920T190813Z
LAST-MODIFIED:20220920T190813Z
UID:17844-1666224000-1666828799@ccsonline.ca
SUMMARY:Health\, Pain\, & Trauma 2022
DESCRIPTION:October 20-26\, 2022 is Health\, Pain\, and Trauma. This week-long intensive will explore how to be present for people who are suffering\, physically\, emotionally\, and spiritually\, and how to support resilience through spiritual care.
URL:https://ccsonline.ca/event/health-pain-trauma-2022/
LOCATION:Woodsworth House\, 60 Maryland Street\, Winnipeg\, Manitoba\, Canada
CATEGORIES:Learning Circle
ATTACH;FMTTYPE=image/png:https://ccsonline.ca/wp-content/uploads/2017/06/sc-trauma-icon.png
ORGANIZER;CN="CCS":MAILTO:info@ccsonline.ca
END:VEVENT
BEGIN:VEVENT
DTSTART;TZID=America/Winnipeg:20221028T120000
DTEND;TZID=America/Winnipeg:20221028T130000
DTSTAMP:20260422T213955
CREATED:20220922T191644Z
LAST-MODIFIED:20220922T191644Z
UID:17888-1666958400-1666962000@ccsonline.ca
SUMMARY:CCS Friday - Getting Rid of "Us and Them" in the Church
DESCRIPTION:Join us on Friday\, October 28 at noon (Winnipeg time) for an online discussion of the processes of exclusion\, marginalization\, and structural inequality that are often unexamined in the church—what we call othering—and actions that move towards a church of belonging where there is mutual power\, access\, and opportunity for all people who share the space. . Our special guest will be Alcris Limongi\, program staff at the Centre for Christian Studies. \nClick [HERE] to register. \nCCS Fridays: \nOnline conversations to help us all to respond faithfully to emerging issues in local contexts.  These workshops are open to anyone who might be interested. Each session will be on a Friday from 12:00 to 1:00 CT and in the form of a Zoom workshop.  There will be a presentation that will be recorded for future viewing\, plus opportunities to engage with the ideas in small groups.
URL:https://ccsonline.ca/event/ccs-friday-getting-rid-of-us-and-them-in-the-church/
LOCATION:Online
CATEGORIES:CCS Fridays
ATTACH;FMTTYPE=image/png:https://ccsonline.ca/wp-content/uploads/2020/09/CCS-Friday.png
ORGANIZER;CN="CCS":MAILTO:info@ccsonline.ca
END:VEVENT
END:VCALENDAR