BEGIN:VCALENDAR
VERSION:2.0
PRODID:-//Centre for Christian Studies - ECPv6.15.17.1//NONSGML v1.0//EN
CALSCALE:GREGORIAN
METHOD:PUBLISH
X-ORIGINAL-URL:https://ccsonline.ca
X-WR-CALDESC:Events for Centre for Christian Studies
REFRESH-INTERVAL;VALUE=DURATION:PT1H
X-Robots-Tag:noindex
X-PUBLISHED-TTL:PT1H
BEGIN:VTIMEZONE
TZID:America/Winnipeg
BEGIN:DAYLIGHT
TZOFFSETFROM:-0600
TZOFFSETTO:-0500
TZNAME:CDT
DTSTART:20210314T080000
END:DAYLIGHT
BEGIN:STANDARD
TZOFFSETFROM:-0500
TZOFFSETTO:-0600
TZNAME:CST
DTSTART:20211107T070000
END:STANDARD
BEGIN:DAYLIGHT
TZOFFSETFROM:-0600
TZOFFSETTO:-0500
TZNAME:CDT
DTSTART:20220313T080000
END:DAYLIGHT
BEGIN:STANDARD
TZOFFSETFROM:-0500
TZOFFSETTO:-0600
TZNAME:CST
DTSTART:20221106T070000
END:STANDARD
BEGIN:DAYLIGHT
TZOFFSETFROM:-0600
TZOFFSETTO:-0500
TZNAME:CDT
DTSTART:20230312T080000
END:DAYLIGHT
BEGIN:STANDARD
TZOFFSETFROM:-0500
TZOFFSETTO:-0600
TZNAME:CST
DTSTART:20231105T070000
END:STANDARD
END:VTIMEZONE
BEGIN:VEVENT
DTSTART;VALUE=DATE:20220331
DTEND;VALUE=DATE:20220407
DTSTAMP:20260423T074721
CREATED:20211125T221912Z
LAST-MODIFIED:20211125T221912Z
UID:17289-1648684800-1649289599@ccsonline.ca
SUMMARY:Power and Privilege 2022
DESCRIPTION:An intensive Social Justice learning circle on social location\, individual and systemic power\, social analysis\, and the role of the prophet.
URL:https://ccsonline.ca/event/power-and-privilege-2022/
LOCATION:Woodsworth House\, 60 Maryland Street\, Winnipeg\, Manitoba\, Canada
CATEGORIES:Learning Circle
ATTACH;FMTTYPE=image/png:https://ccsonline.ca/wp-content/uploads/2017/06/sj-power-icon.png
ORGANIZER;CN="CCS":MAILTO:info@ccsonline.ca
END:VEVENT
BEGIN:VEVENT
DTSTART;TZID=America/Winnipeg:20220402T100000
DTEND;TZID=America/Winnipeg:20220402T120000
DTSTAMP:20260423T074721
CREATED:20220225T213715Z
LAST-MODIFIED:20220323T184538Z
UID:17418-1648893600-1648900800@ccsonline.ca
SUMMARY:Profiles in Prophetic Diakonia
DESCRIPTION:Join us for an online conversation about diaconal heroes and the role of the diaconate in social justice. CCS students in their final year of studies in the Diaconal Ministries program will share profiles of diaconal heroes\, living and dead. In the second hour of the session\, we’ll have conversation with this year’s Companion of the Centre\, Aileen Urquhart\, about the diaconal vision for social justice. \nThis event is free\, but you must register for a link.
URL:https://ccsonline.ca/event/profiles-in-prophetic-diakonia/
LOCATION:Online
ATTACH;FMTTYPE=image/jpeg:https://ccsonline.ca/wp-content/uploads/2014/01/phoebe-the-deacon.jpg
ORGANIZER;CN="CCS":MAILTO:info@ccsonline.ca
END:VEVENT
BEGIN:VEVENT
DTSTART;TZID=America/Winnipeg:20220403T150000
DTEND;TZID=America/Winnipeg:20220403T170000
DTSTAMP:20260423T074721
CREATED:20220225T212735Z
LAST-MODIFIED:20220327T165332Z
UID:17416-1648998000-1649005200@ccsonline.ca
SUMMARY:Annual Service of Celebration 2022
DESCRIPTION:Join us for an online worship service as we celebrate our 2022 graduates of the Centre for Christian Studies and honour this year’s Companion of the Centre\, Aileen Urquhart. \nThe service will take place Sunday\, April 3rd at 3pm Central Daylight Time\, with a time for informal visiting to follow. \nPlease click [HERE] to register and receive a link. \nNote: If you can’t make it\, some video from the service will be available on the CCS website in the week following.
URL:https://ccsonline.ca/event/annual-service-of-celebration-2022/
LOCATION:Online
ATTACH;FMTTYPE=image/png:https://ccsonline.ca/wp-content/uploads/2021/04/ASC2021.png
ORGANIZER;CN="CCS":MAILTO:info@ccsonline.ca
END:VEVENT
BEGIN:VEVENT
DTSTART;VALUE=DATE:20220426
DTEND;VALUE=DATE:20220603
DTSTAMP:20260423T074721
CREATED:20211125T222116Z
LAST-MODIFIED:20211125T222116Z
UID:17291-1650931200-1654214399@ccsonline.ca
SUMMARY:Ages and Stages 2022
DESCRIPTION:An online Education and Worship learning circle on ministry with various age groups\, development theory\, curriculum\, youth ministry\, children’s ministry\, adult education\, ministry with seniors\, and intergenerational ministry.
URL:https://ccsonline.ca/event/ages-and-stages-2022/
LOCATION:Online
CATEGORIES:Learning Circle
ATTACH;FMTTYPE=image/png:https://ccsonline.ca/wp-content/uploads/2017/06/ed-ages-icon.png
ORGANIZER;CN="CCS":MAILTO:info@ccsonline.ca
END:VEVENT
BEGIN:VEVENT
DTSTART;TZID=America/Winnipeg:20220430T140000
DTEND;TZID=America/Winnipeg:20220430T153000
DTSTAMP:20260423T074721
CREATED:20220325T234934Z
LAST-MODIFIED:20220326T052652Z
UID:17510-1651327200-1651332600@ccsonline.ca
SUMMARY:CCS Online Open House
DESCRIPTION:Saturday\, April 30\, 2-3:30 pm (Central Daylight Time) \nJoin us live on Zoom to get to know the Centre for Christian Studies community.  It’s a chance to meet current program staff and students\, learn about our programs\, bursaries\, and registration process\, ask questions and meet new friends.  Whether you’re considering the diaconate\, diaconal ministry\, or continuing education\, there are options for you with CCS. There will even be a mini tour of Woodsworth House.  It’ll be fun!  Click [HERE] to register and get the link. \nFor more information\, call Lori Stewart at (204) 783-4490 ext 22 or email info@ccsonline.ca
URL:https://ccsonline.ca/event/ccs-online-open-house/
LOCATION:Online
ATTACH;FMTTYPE=image/png:https://ccsonline.ca/wp-content/uploads/2022/03/2022-open-house.png
ORGANIZER;CN="CCS":MAILTO:info@ccsonline.ca
END:VEVENT
END:VCALENDAR