BEGIN:VCALENDAR
VERSION:2.0
PRODID:-//Centre for Christian Studies - ECPv6.15.17.1//NONSGML v1.0//EN
CALSCALE:GREGORIAN
METHOD:PUBLISH
X-WR-CALNAME:Centre for Christian Studies
X-ORIGINAL-URL:https://ccsonline.ca
X-WR-CALDESC:Events for Centre for Christian Studies
REFRESH-INTERVAL;VALUE=DURATION:PT1H
X-Robots-Tag:noindex
X-PUBLISHED-TTL:PT1H
BEGIN:VTIMEZONE
TZID:America/Winnipeg
BEGIN:DAYLIGHT
TZOFFSETFROM:-0600
TZOFFSETTO:-0500
TZNAME:CDT
DTSTART:20200308T080000
END:DAYLIGHT
BEGIN:STANDARD
TZOFFSETFROM:-0500
TZOFFSETTO:-0600
TZNAME:CST
DTSTART:20201101T070000
END:STANDARD
BEGIN:DAYLIGHT
TZOFFSETFROM:-0600
TZOFFSETTO:-0500
TZNAME:CDT
DTSTART:20210314T080000
END:DAYLIGHT
BEGIN:STANDARD
TZOFFSETFROM:-0500
TZOFFSETTO:-0600
TZNAME:CST
DTSTART:20211107T070000
END:STANDARD
BEGIN:DAYLIGHT
TZOFFSETFROM:-0600
TZOFFSETTO:-0500
TZNAME:CDT
DTSTART:20220313T080000
END:DAYLIGHT
BEGIN:STANDARD
TZOFFSETFROM:-0500
TZOFFSETTO:-0600
TZNAME:CST
DTSTART:20221106T070000
END:STANDARD
END:VTIMEZONE
BEGIN:VEVENT
DTSTART;VALUE=DATE:20210929
DTEND;VALUE=DATE:20211007
DTSTAMP:20260423T170431
CREATED:20211019T200212Z
LAST-MODIFIED:20211019T200212Z
UID:17144-1632873600-1633564799@ccsonline.ca
SUMMARY:Culture and Identity 2021
DESCRIPTION:An education and worship learning circle exploring race and culture\, interfaith and ecumenical connections\, and intersectionality. More info…
URL:https://ccsonline.ca/event/culture-and-identity-2021/
LOCATION:Online
CATEGORIES:Learning Circle
ATTACH;FMTTYPE=image/png:https://ccsonline.ca/wp-content/uploads/2017/06/ed-culture-icon.png
ORGANIZER;CN="CCS":MAILTO:info@ccsonline.ca
END:VEVENT
BEGIN:VEVENT
DTSTART;TZID=America/Winnipeg:20211001T120000
DTEND;TZID=America/Winnipeg:20211001T130000
DTSTAMP:20260423T170431
CREATED:20210924T155735Z
LAST-MODIFIED:20210924T172921Z
UID:17115-1633089600-1633093200@ccsonline.ca
SUMMARY:CCS Friday - Indigenous Autonomy and Theological Education
DESCRIPTION:Join us for an online discussion of Indigenous testamur and a vision of decolonized theological training for the Indigenous church that honours Indigenous self-determination. Our special guest will be Adrian Jacobs\, Keeper of the Circle at the Sandy-Saulteaux Spiritual Centre \nCCS Fridays:\nOnline conversations to help us all to respond faithfully to emerging issues in local contexts.  These workshops are open to anyone who might be interested. Each session will be on a Friday from 12:00 to 1:00 CT and in the form of a Zoom workshop.  There will be a presentation that will be recorded for future viewing\, plus opportunities to engage with the ideas in small groups. \nSessions are free but you must register. (Click HERE)
URL:https://ccsonline.ca/event/ccs-friday-indigenous-autonomy-and-theological-education/
LOCATION:Online
ATTACH;FMTTYPE=image/png:https://ccsonline.ca/wp-content/uploads/2020/09/CCS-Friday.png
ORGANIZER;CN="CCS":MAILTO:info@ccsonline.ca
END:VEVENT
BEGIN:VEVENT
DTSTART;VALUE=DATE:20211021
DTEND;VALUE=DATE:20211029
DTSTAMP:20260423T170431
CREATED:20211019T200427Z
LAST-MODIFIED:20211019T200427Z
UID:17146-1634774400-1635465599@ccsonline.ca
SUMMARY:Right Relations 2021
DESCRIPTION:A social justice learning circle on the relationship of indigenous and settler people in Canada\, treaty as covenant\, truth and reconciliation\, indigenous spiritualities\, land\, and the theology of mission. More info…
URL:https://ccsonline.ca/event/right-relations-2021/
CATEGORIES:Learning Circle
ATTACH;FMTTYPE=image/png:https://ccsonline.ca/wp-content/uploads/2017/06/sj-rightrelations-icon.png
ORGANIZER;CN="CCS":MAILTO:info@ccsonline.ca
END:VEVENT
END:VCALENDAR