BEGIN:VCALENDAR
VERSION:2.0
PRODID:-//Centre for Christian Studies - ECPv6.15.17.1//NONSGML v1.0//EN
CALSCALE:GREGORIAN
METHOD:PUBLISH
X-WR-CALNAME:Centre for Christian Studies
X-ORIGINAL-URL:https://ccsonline.ca
X-WR-CALDESC:Events for Centre for Christian Studies
REFRESH-INTERVAL;VALUE=DURATION:PT1H
X-Robots-Tag:noindex
X-PUBLISHED-TTL:PT1H
BEGIN:VTIMEZONE
TZID:America/Winnipeg
BEGIN:DAYLIGHT
TZOFFSETFROM:-0600
TZOFFSETTO:-0500
TZNAME:CDT
DTSTART:20190310T080000
END:DAYLIGHT
BEGIN:STANDARD
TZOFFSETFROM:-0500
TZOFFSETTO:-0600
TZNAME:CST
DTSTART:20191103T070000
END:STANDARD
BEGIN:DAYLIGHT
TZOFFSETFROM:-0600
TZOFFSETTO:-0500
TZNAME:CDT
DTSTART:20200308T080000
END:DAYLIGHT
BEGIN:STANDARD
TZOFFSETFROM:-0500
TZOFFSETTO:-0600
TZNAME:CST
DTSTART:20201101T070000
END:STANDARD
BEGIN:DAYLIGHT
TZOFFSETFROM:-0600
TZOFFSETTO:-0500
TZNAME:CDT
DTSTART:20210314T080000
END:DAYLIGHT
BEGIN:STANDARD
TZOFFSETFROM:-0500
TZOFFSETTO:-0600
TZNAME:CST
DTSTART:20211107T070000
END:STANDARD
END:VTIMEZONE
BEGIN:VEVENT
DTSTART;VALUE=DATE:20201101
DTEND;VALUE=DATE:20201102
DTSTAMP:20260422T130028
CREATED:20200909T192222Z
LAST-MODIFIED:20200909T192607Z
UID:16411-1604188800-1604221200@ccsonline.ca
SUMMARY:CCS Sunday 2020
DESCRIPTION:Celebrate the work of the Centre for Christian Studies in your Sunday worship. Find resources. prayers\, sermons\, videos\, etc.
URL:https://ccsonline.ca/event/ccs-sunday-2020/
ATTACH;FMTTYPE=image/png:https://ccsonline.ca/wp-content/uploads/2017/04/CCS-logo-image.png
END:VEVENT
BEGIN:VEVENT
DTSTART;TZID=America/Winnipeg:20201106T120000
DTEND;TZID=America/Winnipeg:20201106T130000
DTSTAMP:20260422T130028
CREATED:20200925T165134Z
LAST-MODIFIED:20200925T165757Z
UID:16445-1604664000-1604667600@ccsonline.ca
SUMMARY:CCS Friday - Queer Biblical Interpretation
DESCRIPTION:November 6: Queer Biblical Interpretation: seeing Scripture with new eyes. \nCCS Fridays:\nOnline conversations to help us all to respond faithfully to emerging issues in local contexts.  These workshops are open to anyone who might be interested. Each session will be on a Friday from 12:00 to 1:00 CT and in the form of a Zoom workshop.  There will be a presentation that will be recorded for future viewing\, plus opportunities to engage with the ideas in small groups. \nSessions are free but you must register.
URL:https://ccsonline.ca/event/ccs-friday-queer-biblical-interpretation/
LOCATION:Online
CATEGORIES:CCS Fridays
ATTACH;FMTTYPE=image/png:https://ccsonline.ca/wp-content/uploads/2020/09/CCS-Friday.png
ORGANIZER;CN="CCS":MAILTO:info@ccsonline.ca
END:VEVENT
END:VCALENDAR