BEGIN:VCALENDAR
VERSION:2.0
PRODID:-//Centre for Christian Studies - ECPv6.15.17.1//NONSGML v1.0//EN
CALSCALE:GREGORIAN
METHOD:PUBLISH
X-WR-CALNAME:Centre for Christian Studies
X-ORIGINAL-URL:https://ccsonline.ca
X-WR-CALDESC:Events for Centre for Christian Studies
REFRESH-INTERVAL;VALUE=DURATION:PT1H
X-Robots-Tag:noindex
X-PUBLISHED-TTL:PT1H
BEGIN:VTIMEZONE
TZID:America/Winnipeg
BEGIN:DAYLIGHT
TZOFFSETFROM:-0600
TZOFFSETTO:-0500
TZNAME:CDT
DTSTART:20190310T080000
END:DAYLIGHT
BEGIN:STANDARD
TZOFFSETFROM:-0500
TZOFFSETTO:-0600
TZNAME:CST
DTSTART:20191103T070000
END:STANDARD
BEGIN:DAYLIGHT
TZOFFSETFROM:-0600
TZOFFSETTO:-0500
TZNAME:CDT
DTSTART:20200308T080000
END:DAYLIGHT
BEGIN:STANDARD
TZOFFSETFROM:-0500
TZOFFSETTO:-0600
TZNAME:CST
DTSTART:20201101T070000
END:STANDARD
BEGIN:DAYLIGHT
TZOFFSETFROM:-0600
TZOFFSETTO:-0500
TZNAME:CDT
DTSTART:20210314T080000
END:DAYLIGHT
BEGIN:STANDARD
TZOFFSETFROM:-0500
TZOFFSETTO:-0600
TZNAME:CST
DTSTART:20211107T070000
END:STANDARD
END:VTIMEZONE
BEGIN:VEVENT
DTSTART;VALUE=DATE:20200930
DTEND;VALUE=DATE:20201008
DTSTAMP:20260419T203822
CREATED:20200909T191807Z
LAST-MODIFIED:20200909T191807Z
UID:16405-1601424000-1602115199@ccsonline.ca
SUMMARY:Ministry as Listening 2020
DESCRIPTION:A spiritual care learning circle. More info…
URL:https://ccsonline.ca/event/ministry-as-listening-2020/
LOCATION:Online
CATEGORIES:Learning Circle
ATTACH;FMTTYPE=image/png:https://ccsonline.ca/wp-content/uploads/2019/04/sc-listening-icon2.png
ORGANIZER;CN="CCS":MAILTO:info@ccsonline.ca
END:VEVENT
BEGIN:VEVENT
DTSTART;TZID=America/Winnipeg:20201009T120000
DTEND;TZID=America/Winnipeg:20201009T130000
DTSTAMP:20260419T203822
CREATED:20200925T164655Z
LAST-MODIFIED:20200925T165831Z
UID:16440-1602244800-1602248400@ccsonline.ca
SUMMARY:CCS Friday - Imagine Church Differently
DESCRIPTION:October 9: Imagine Church Differently: What is church when we can’t gather?  An exploration of ecclesiology and the implications of what we believe about church\, with guest\, Noel Suministrado \nCCS Fridays:\nOnline conversations to help us all to respond faithfully to emerging issues in local contexts.  These workshops are open to anyone who might be interested. Each session will be on a Friday from 12:00 to 1:00 CT and in the form of a Zoom workshop.  There will be a presentation that will be recorded for future viewing\, plus opportunities to engage with the ideas in small groups. \nSessions are free but you must register.
URL:https://ccsonline.ca/event/ccs-friday-imagine-church-differently/
LOCATION:Online
CATEGORIES:CCS Fridays
ATTACH;FMTTYPE=image/png:https://ccsonline.ca/wp-content/uploads/2020/09/CCS-Friday.png
ORGANIZER;CN="CCS":MAILTO:info@ccsonline.ca
END:VEVENT
BEGIN:VEVENT
DTSTART;VALUE=DATE:20201021
DTEND;VALUE=DATE:20201029
DTSTAMP:20260419T203822
CREATED:20200909T191947Z
LAST-MODIFIED:20200909T191947Z
UID:16408-1603238400-1603929599@ccsonline.ca
SUMMARY:Eco-Justice 2020
DESCRIPTION:A social justice learning circle. More info…
URL:https://ccsonline.ca/event/eco-justice-2020/
LOCATION:Online
CATEGORIES:Learning Circle
ATTACH;FMTTYPE=image/png:https://ccsonline.ca/wp-content/uploads/2017/06/sj-ecojustice-icon.png
ORGANIZER;CN="CCS":MAILTO:info@ccsonline.ca
END:VEVENT
END:VCALENDAR