BEGIN:VCALENDAR
VERSION:2.0
PRODID:-//Centre for Christian Studies - ECPv6.15.17.1//NONSGML v1.0//EN
CALSCALE:GREGORIAN
METHOD:PUBLISH
X-WR-CALNAME:Centre for Christian Studies
X-ORIGINAL-URL:https://ccsonline.ca
X-WR-CALDESC:Events for Centre for Christian Studies
REFRESH-INTERVAL;VALUE=DURATION:PT1H
X-Robots-Tag:noindex
X-PUBLISHED-TTL:PT1H
BEGIN:VTIMEZONE
TZID:America/Winnipeg
BEGIN:DAYLIGHT
TZOFFSETFROM:-0600
TZOFFSETTO:-0500
TZNAME:CDT
DTSTART:20190310T080000
END:DAYLIGHT
BEGIN:STANDARD
TZOFFSETFROM:-0500
TZOFFSETTO:-0600
TZNAME:CST
DTSTART:20191103T070000
END:STANDARD
BEGIN:DAYLIGHT
TZOFFSETFROM:-0600
TZOFFSETTO:-0500
TZNAME:CDT
DTSTART:20200308T080000
END:DAYLIGHT
BEGIN:STANDARD
TZOFFSETFROM:-0500
TZOFFSETTO:-0600
TZNAME:CST
DTSTART:20201101T070000
END:STANDARD
BEGIN:DAYLIGHT
TZOFFSETFROM:-0600
TZOFFSETTO:-0500
TZNAME:CDT
DTSTART:20210314T080000
END:DAYLIGHT
BEGIN:STANDARD
TZOFFSETFROM:-0500
TZOFFSETTO:-0600
TZNAME:CST
DTSTART:20211107T070000
END:STANDARD
END:VTIMEZONE
BEGIN:VEVENT
DTSTART;TZID=America/Winnipeg:20200407T110000
DTEND;TZID=America/Winnipeg:20200407T123000
DTSTAMP:20260423T100719
CREATED:20200409T180912Z
LAST-MODIFIED:20200409T180912Z
UID:16103-1586257200-1586262600@ccsonline.ca
SUMMARY:Using Zoom for Church Meetings
DESCRIPTION:Due to the COVID-19 pandemic\, churches and clergy are suddenly trying to figure out how to hold their faith communities together and get some of their work done remotely. For the past few years the Centre for Christian Studies has been using Zoom to stay connected with students and staff across Canada and the world.  We’ll offer the best advice we can from our experience\, with some suggestions about how Zoom can be used for church governance and meetings.
URL:https://ccsonline.ca/event/using-zoom-for-church-meetings/
LOCATION:Online
ORGANIZER;CN="CCS":MAILTO:info@ccsonline.ca
END:VEVENT
BEGIN:VEVENT
DTSTART;TZID=America/Winnipeg:20200414T110000
DTEND;TZID=America/Winnipeg:20200414T123000
DTSTAMP:20260423T100719
CREATED:20200409T181914Z
LAST-MODIFIED:20200409T181914Z
UID:16106-1586862000-1586867400@ccsonline.ca
SUMMARY:Pastoral Care in a Crisis workshop
DESCRIPTION:A free workshop discussing strategies and principles for offering pastoral care in a crisis (for example\, a global pandemic). \nTuesday\, April 14 at 11am Central Time (Winnipeg). \nFacilitated by CCS Principal Michelle Owens and Development Coordinator Lori Stewart. \nDonations are gratefully accepted. \nRegister at https://zoom.us/meeting/register/tJwvcuyrqzotecPk692Yk3C31fASzTEEWQ
URL:https://ccsonline.ca/event/pastoral-care-in-a-crisis-workshop/
LOCATION:Online
ORGANIZER;CN="CCS":MAILTO:info@ccsonline.ca
END:VEVENT
BEGIN:VEVENT
DTSTART;VALUE=DATE:20200415
DTEND;VALUE=DATE:20200422
DTSTAMP:20260423T100719
CREATED:20191114T161153Z
LAST-MODIFIED:20200316T201246Z
UID:15349-1586908800-1587513599@ccsonline.ca
SUMMARY:Oppression and Resistance 2020
DESCRIPTION:A social justice learning circle on systems of oppressions (racism\, sexism\, heterosexism\, colonialism\, etc.)\, models of change\, and theologies of resistance (liberation theology\, feminist theology\, queer theology\, etc.)  NOTE: This learning circle has been moved to online.
URL:https://ccsonline.ca/event/oppression-and-resistance-2020/
CATEGORIES:Learning Circle
ATTACH;FMTTYPE=image/png:https://ccsonline.ca/wp-content/uploads/2017/06/sj-oppression-icon.png
ORGANIZER;CN="CCS":MAILTO:info@ccsonline.ca
END:VEVENT
BEGIN:VEVENT
DTSTART;VALUE=DATE:20200420
DTEND;VALUE=DATE:20200421
DTSTAMP:20260423T100719
CREATED:20190606T155628Z
LAST-MODIFIED:20200316T201335Z
UID:15358-1587340800-1587373200@ccsonline.ca
SUMMARY:Integration 3 learning circle 2020
DESCRIPTION:The spring learning circle for students in the final year of the their diaconal ministry program\, focusing on preparation for active ministry. NOTE: This learning circle has been moved to online.
URL:https://ccsonline.ca/event/integration-3-learning-circle-2020/
CATEGORIES:Learning Circle
ATTACH;FMTTYPE=image/png:https://ccsonline.ca/wp-content/uploads/2017/06/integration-icon.png
ORGANIZER;CN="CCS":MAILTO:info@ccsonline.ca
END:VEVENT
BEGIN:VEVENT
DTSTART;TZID=America/Winnipeg:20200421T110000
DTEND;TZID=America/Winnipeg:20200421T123000
DTSTAMP:20260423T100719
CREATED:20200414T210903Z
LAST-MODIFIED:20200414T211025Z
UID:16109-1587466800-1587472200@ccsonline.ca
SUMMARY:Using the Spiral for Pastoral Care workshop
DESCRIPTION:A free workshop exploring the Centre for Christian Studies’ Action-Reflection Spiral as a tool for pastoral care and faithful decision-making. Tuesday\, April 21 at 11am Central Time (Winnipeg). Facilitated by CCS Principal Michelle Owens and Development Coordinator Lori Stewart. Donations are gratefully accepted. Register at https://zoom.us/meeting/register/uJIlduuvqzgpfSjDjkl7L8z5VbkBUroqJg
URL:https://ccsonline.ca/event/using-the-spiral-for-pastoral-care-workshop/
LOCATION:Online
ORGANIZER;CN="CCS":MAILTO:info@ccsonline.ca
END:VEVENT
BEGIN:VEVENT
DTSTART;VALUE=DATE:20200423
DTEND;VALUE=DATE:20200430
DTSTAMP:20260423T100719
CREATED:20190606T155032Z
LAST-MODIFIED:20200316T201408Z
UID:15352-1587600000-1588204799@ccsonline.ca
SUMMARY:Ages and Stages 2020
DESCRIPTION:An education and worship learning circle on ministry with various age groups\, development theory\, curriculum\, youth ministry\, children’s ministry\, adult education\, ministry with seniors\, and intergenerational ministry. NOTE: This learning circle has been moved to online.
URL:https://ccsonline.ca/event/ages-and-stages-2020/
CATEGORIES:Learning Circle
ATTACH;FMTTYPE=image/png:https://ccsonline.ca/wp-content/uploads/2017/06/ed-ages-icon.png
ORGANIZER;CN="CCS":MAILTO:info@ccsonline.ca
END:VEVENT
BEGIN:VEVENT
DTSTART;TZID=America/Winnipeg:20200428T110000
DTEND;TZID=America/Winnipeg:20200428T123000
DTSTAMP:20260423T100719
CREATED:20200414T211630Z
LAST-MODIFIED:20200422T153718Z
UID:16114-1588071600-1588077000@ccsonline.ca
SUMMARY:Trauma-informed Pastoral Care in response to the COVID-19 Pandemic
DESCRIPTION:A free workshop discussing strategies for offering pastoral care with an awareness of trauma and post-traumatic stress. Tuesday\, April 28 at 11am Central Time (Winnipeg). Facilitated by CCS Principal Michelle Owens and Development Coordinator Lori Stewart. Donations are gratefully accepted. Register at  https://zoom.us/meeting/register/tJUvdu2rrD0rHdJDnxvb7lZ_x2DuH53MnG7w \n 
URL:https://ccsonline.ca/event/trauma-informed-pastoral-care-in-response-to-the-covid-19-pandemic/
LOCATION:Online
ORGANIZER;CN="CCS":MAILTO:info@ccsonline.ca
END:VEVENT
END:VCALENDAR