BEGIN:VCALENDAR
VERSION:2.0
PRODID:-//Centre for Christian Studies - ECPv6.15.17.1//NONSGML v1.0//EN
CALSCALE:GREGORIAN
METHOD:PUBLISH
X-WR-CALNAME:Centre for Christian Studies
X-ORIGINAL-URL:https://ccsonline.ca
X-WR-CALDESC:Events for Centre for Christian Studies
REFRESH-INTERVAL;VALUE=DURATION:PT1H
X-Robots-Tag:noindex
X-PUBLISHED-TTL:PT1H
BEGIN:VTIMEZONE
TZID:America/Winnipeg
BEGIN:DAYLIGHT
TZOFFSETFROM:-0600
TZOFFSETTO:-0500
TZNAME:CDT
DTSTART:20180311T080000
END:DAYLIGHT
BEGIN:STANDARD
TZOFFSETFROM:-0500
TZOFFSETTO:-0600
TZNAME:CST
DTSTART:20181104T070000
END:STANDARD
BEGIN:DAYLIGHT
TZOFFSETFROM:-0600
TZOFFSETTO:-0500
TZNAME:CDT
DTSTART:20190310T080000
END:DAYLIGHT
BEGIN:STANDARD
TZOFFSETFROM:-0500
TZOFFSETTO:-0600
TZNAME:CST
DTSTART:20191103T070000
END:STANDARD
BEGIN:DAYLIGHT
TZOFFSETFROM:-0600
TZOFFSETTO:-0500
TZNAME:CDT
DTSTART:20200308T080000
END:DAYLIGHT
BEGIN:STANDARD
TZOFFSETFROM:-0500
TZOFFSETTO:-0600
TZNAME:CST
DTSTART:20201101T070000
END:STANDARD
END:VTIMEZONE
BEGIN:VEVENT
DTSTART;VALUE=DATE:20191016
DTEND;VALUE=DATE:20191023
DTSTAMP:20260421T205828
CREATED:20190606T153254Z
LAST-MODIFIED:20190606T153534Z
UID:15337-1571184000-1571788799@ccsonline.ca
SUMMARY:Ministry as Storytelling 2019
DESCRIPTION:An education and worship learning circle on story\, preaching\, scripture as narrative\, and the arts in worship and education.
URL:https://ccsonline.ca/event/ministry-as-storytelling-2019/
CATEGORIES:Second Fridays
ATTACH;FMTTYPE=image/png:https://ccsonline.ca/wp-content/uploads/2017/06/ed-storytelling-icon.png
ORGANIZER;CN="CCS":MAILTO:info@ccsonline.ca
END:VEVENT
BEGIN:VEVENT
DTSTART;VALUE=DATE:20191024
DTEND;VALUE=DATE:20191031
DTSTAMP:20260421T205829
CREATED:20190606T153517Z
LAST-MODIFIED:20190606T154644Z
UID:15340-1571875200-1572479999@ccsonline.ca
SUMMARY:Spiritual Practice 2019
DESCRIPTION:A spiritual care learning circle on the history and diversity of Christian spiritual practices\, private devotion and communal spirituality\, discipleship\, and companioning.
URL:https://ccsonline.ca/event/spiritual-practice-2019/
CATEGORIES:Learning Circle
ATTACH;FMTTYPE=image/png:https://ccsonline.ca/wp-content/uploads/2019/04/sc-spiritualcare-icon.png
ORGANIZER;CN="CCS":MAILTO:info@ccsonline.ca
END:VEVENT
END:VCALENDAR