BEGIN:VCALENDAR
VERSION:2.0
PRODID:-//Centre for Christian Studies - ECPv6.15.17.1//NONSGML v1.0//EN
CALSCALE:GREGORIAN
METHOD:PUBLISH
X-WR-CALNAME:Centre for Christian Studies
X-ORIGINAL-URL:https://ccsonline.ca
X-WR-CALDESC:Events for Centre for Christian Studies
REFRESH-INTERVAL;VALUE=DURATION:PT1H
X-Robots-Tag:noindex
X-PUBLISHED-TTL:PT1H
BEGIN:VTIMEZONE
TZID:America/Winnipeg
BEGIN:DAYLIGHT
TZOFFSETFROM:-0600
TZOFFSETTO:-0500
TZNAME:CDT
DTSTART:20180311T080000
END:DAYLIGHT
BEGIN:STANDARD
TZOFFSETFROM:-0500
TZOFFSETTO:-0600
TZNAME:CST
DTSTART:20181104T070000
END:STANDARD
BEGIN:DAYLIGHT
TZOFFSETFROM:-0600
TZOFFSETTO:-0500
TZNAME:CDT
DTSTART:20190310T080000
END:DAYLIGHT
BEGIN:STANDARD
TZOFFSETFROM:-0500
TZOFFSETTO:-0600
TZNAME:CST
DTSTART:20191103T070000
END:STANDARD
BEGIN:DAYLIGHT
TZOFFSETFROM:-0600
TZOFFSETTO:-0500
TZNAME:CDT
DTSTART:20200308T080000
END:DAYLIGHT
BEGIN:STANDARD
TZOFFSETFROM:-0500
TZOFFSETTO:-0600
TZNAME:CST
DTSTART:20201101T070000
END:STANDARD
BEGIN:DAYLIGHT
TZOFFSETFROM:-0600
TZOFFSETTO:-0500
TZNAME:CDT
DTSTART:20210314T080000
END:DAYLIGHT
BEGIN:STANDARD
TZOFFSETFROM:-0500
TZOFFSETTO:-0600
TZNAME:CST
DTSTART:20211107T070000
END:STANDARD
END:VTIMEZONE
BEGIN:VEVENT
DTSTART;VALUE=DATE:20200114
DTEND;VALUE=DATE:20200221
DTSTAMP:20260420T075652
CREATED:20190606T154153Z
LAST-MODIFIED:20200106T161756Z
UID:15343-1578960000-1582243199@ccsonline.ca
SUMMARY:Power and Privilege 2019 (online)
DESCRIPTION:A social justice online learning circle on social location\, individual and systemic power\, social analysis\, and the role of the prophet. \nThe course will involve video conferences twice weekly via Zoom\, on Wednesdays and Fridays at 3pm Central time as well as asynchronous online discussions and activities throughout the week. \nJanuary 14 to February20\, 2020 \nFor more information visit\, click here.
URL:https://ccsonline.ca/event/power-and-privilege-2019-online/
CATEGORIES:Learning Circle
ATTACH;FMTTYPE=image/png:https://ccsonline.ca/wp-content/uploads/2017/06/sj-power-icon.png
ORGANIZER;CN="CCS":MAILTO:info@ccsonline.ca
END:VEVENT
BEGIN:VEVENT
DTSTART;TZID=America/Winnipeg:20191210T160000
DTEND;TZID=America/Winnipeg:20191210T180000
DTSTAMP:20260420T075652
CREATED:20191114T161552Z
LAST-MODIFIED:20191126T214018Z
UID:15798-1575993600-1576000800@ccsonline.ca
SUMMARY:Cookies and Carols 2019
DESCRIPTION:Hark! The herald angels\, aka those of us gathered\, sing! This includes you. If you are in or around Winnipeg\, join us at Woodsworth House on Tuesday\, December 10 for our annual open house carol sing. There will be hot beverages and tasty snacks and a chance to hang out and sing some of your favourite Christmas hymns and carols.\n\nWe don’t have a hearth\, but our hearts are warm and friendly. \nTuesday\, December 10\, 4 – 6 p.m.
URL:https://ccsonline.ca/event/cookies-and-carols-2019/
LOCATION:Woodsworth House\, 60 Maryland Street\, Winnipeg\, Manitoba\, Canada
ATTACH;FMTTYPE=image/jpeg:https://ccsonline.ca/wp-content/uploads/2015/12/cookies1.jpg
ORGANIZER;CN="CCS":MAILTO:info@ccsonline.ca
END:VEVENT
BEGIN:VEVENT
DTSTART;VALUE=DATE:20191024
DTEND;VALUE=DATE:20191031
DTSTAMP:20260420T075652
CREATED:20190606T153517Z
LAST-MODIFIED:20190606T154644Z
UID:15340-1571875200-1572479999@ccsonline.ca
SUMMARY:Spiritual Practice 2019
DESCRIPTION:A spiritual care learning circle on the history and diversity of Christian spiritual practices\, private devotion and communal spirituality\, discipleship\, and companioning.
URL:https://ccsonline.ca/event/spiritual-practice-2019/
CATEGORIES:Learning Circle
ATTACH;FMTTYPE=image/png:https://ccsonline.ca/wp-content/uploads/2019/04/sc-spiritualcare-icon.png
ORGANIZER;CN="CCS":MAILTO:info@ccsonline.ca
END:VEVENT
BEGIN:VEVENT
DTSTART;VALUE=DATE:20191016
DTEND;VALUE=DATE:20191023
DTSTAMP:20260420T075652
CREATED:20190606T153254Z
LAST-MODIFIED:20190606T153534Z
UID:15337-1571184000-1571788799@ccsonline.ca
SUMMARY:Ministry as Storytelling 2019
DESCRIPTION:An education and worship learning circle on story\, preaching\, scripture as narrative\, and the arts in worship and education.
URL:https://ccsonline.ca/event/ministry-as-storytelling-2019/
CATEGORIES:Second Fridays
ATTACH;FMTTYPE=image/png:https://ccsonline.ca/wp-content/uploads/2017/06/ed-storytelling-icon.png
ORGANIZER;CN="CCS":MAILTO:info@ccsonline.ca
END:VEVENT
BEGIN:VEVENT
DTSTART;VALUE=DATE:20190916
DTEND;VALUE=DATE:20190922
DTSTAMP:20260420T075652
CREATED:20190606T154426Z
LAST-MODIFIED:20190606T154426Z
UID:15346-1568592000-1569110399@ccsonline.ca
SUMMARY:Integration 1 learning circle 2019
DESCRIPTION:The fall learning circle for students in the final year of their diaconal ministry program\, focusing on theology\, personal faith statements and official creeds\, diaconal/vocational/ministry identity.
URL:https://ccsonline.ca/event/integration-1-learning-circle-2019/
LOCATION:Woodsworth House\, 60 Maryland Street\, Winnipeg\, Manitoba\, Canada
CATEGORIES:Learning Circle
ATTACH;FMTTYPE=image/png:https://ccsonline.ca/wp-content/uploads/2017/06/integration-icon.png
ORGANIZER;CN="CCS":MAILTO:info@ccsonline.ca
END:VEVENT
BEGIN:VEVENT
DTSTART;VALUE=DATE:20190610
DTEND;VALUE=DATE:20190623
DTSTAMP:20260420T075652
CREATED:20190123T190212Z
LAST-MODIFIED:20190123T190212Z
UID:14760-1560124800-1561247999@ccsonline.ca
SUMMARY:Learning on Purpose 2019
DESCRIPTION:Our two-week leadership development course\, held this year at Woodsworth House in Winnipeg\, MB. \nTuition cost is $1600. \nMore information…
URL:https://ccsonline.ca/event/learning-on-purpose-2019/
LOCATION:Woodsworth House\, 60 Maryland Street\, Winnipeg\, Manitoba\, Canada
CATEGORIES:Learning Circle
ATTACH;FMTTYPE=image/png:https://ccsonline.ca/wp-content/uploads/2017/06/learning-on-purpose-icon.png
ORGANIZER;CN="CCS":MAILTO:info@ccsonline.ca
END:VEVENT
BEGIN:VEVENT
DTSTART;VALUE=DATE:20190328
DTEND;VALUE=DATE:20190404
DTSTAMP:20260420T075652
CREATED:20180515T162235Z
LAST-MODIFIED:20181001T194904Z
UID:6874-1553731200-1554335999@ccsonline.ca
SUMMARY:Health\, Pain\, and Trauma learning circle 2019
DESCRIPTION:A spiritual care learning circle focusing on mental health\, chronic pain\, stress\, depression\, suicide\, abuse\, trauma\, and healing.
URL:https://ccsonline.ca/event/health-pain-and-trauma-learning-circle-2019/
CATEGORIES:Learning Circle
ATTACH;FMTTYPE=image/png:https://ccsonline.ca/wp-content/uploads/2017/06/sc-trauma-icon.png
END:VEVENT
BEGIN:VEVENT
DTSTART;TZID=America/Winnipeg:20190324T140000
DTEND;TZID=America/Winnipeg:20190324T160000
DTSTAMP:20260420T075652
CREATED:20190107T211034Z
LAST-MODIFIED:20190107T211034Z
UID:7779-1553436000-1553443200@ccsonline.ca
SUMMARY:CCS Annual Service of Celebration 2019
DESCRIPTION:Open to the public.  Come join the Centre for Christian Studies for a service of worship to celebrate our graduating students and honour the 2019 Companion of the Centre\, Nancy Ford.
URL:https://ccsonline.ca/event/ccs-annual-service-of-celebration-2019/
LOCATION:St Mary’s Road United Church\, 613 St Mary's Rd\, Winnipeg\, Manitoba\, R2M 3L8\, Canada
ATTACH;FMTTYPE=image/jpeg:https://ccsonline.ca/wp-content/uploads/2016/04/IY-bowl-at-ASC-2016.jpg
ORGANIZER;CN="CCS":MAILTO:info@ccsonline.ca
END:VEVENT
BEGIN:VEVENT
DTSTART;TZID=America/Winnipeg:20190323T173000
DTEND;TZID=America/Winnipeg:20190323T210000
DTSTAMP:20260420T075652
CREATED:20190107T210511Z
LAST-MODIFIED:20190212T203603Z
UID:7759-1553362200-1553374800@ccsonline.ca
SUMMARY:CCS Banquet 2019
DESCRIPTION:Join the Centre for Christian Studies community for a feast as the graduates receive their diplomas and the 2019 Companion of the Centre\, Nancy Ford\, is introduced. \nThe meal is catered by Urban Prairie Cuisine.  Tickets at $45.  ($25 for CCS students.)
URL:https://ccsonline.ca/event/ccs-banquet-2019/
LOCATION:St. George’s Crescentwood Anglican Church\, 168 Wilton Street\, Winnipeg\, Manitoba\, Canada
ATTACH;FMTTYPE=image/jpeg:https://ccsonline.ca/wp-content/uploads/2019/01/banquet-dessert.jpg
END:VEVENT
END:VCALENDAR