BEGIN:VCALENDAR
VERSION:2.0
PRODID:-//Centre for Christian Studies - ECPv6.15.17.1//NONSGML v1.0//EN
CALSCALE:GREGORIAN
METHOD:PUBLISH
X-WR-CALNAME:Centre for Christian Studies
X-ORIGINAL-URL:http://ccsonline.ca
X-WR-CALDESC:Events for Centre for Christian Studies
REFRESH-INTERVAL;VALUE=DURATION:PT1H
X-Robots-Tag:noindex
X-PUBLISHED-TTL:PT1H
BEGIN:VTIMEZONE
TZID:America/Winnipeg
BEGIN:DAYLIGHT
TZOFFSETFROM:-0600
TZOFFSETTO:-0500
TZNAME:CDT
DTSTART:20230312T080000
END:DAYLIGHT
BEGIN:STANDARD
TZOFFSETFROM:-0500
TZOFFSETTO:-0600
TZNAME:CST
DTSTART:20231105T070000
END:STANDARD
BEGIN:DAYLIGHT
TZOFFSETFROM:-0600
TZOFFSETTO:-0500
TZNAME:CDT
DTSTART:20240310T080000
END:DAYLIGHT
BEGIN:STANDARD
TZOFFSETFROM:-0500
TZOFFSETTO:-0600
TZNAME:CST
DTSTART:20241103T070000
END:STANDARD
BEGIN:DAYLIGHT
TZOFFSETFROM:-0600
TZOFFSETTO:-0500
TZNAME:CDT
DTSTART:20250309T080000
END:DAYLIGHT
BEGIN:STANDARD
TZOFFSETFROM:-0500
TZOFFSETTO:-0600
TZNAME:CST
DTSTART:20251102T070000
END:STANDARD
END:VTIMEZONE
BEGIN:VEVENT
DTSTART;VALUE=DATE:20240408
DTEND;VALUE=DATE:20240414
DTSTAMP:20260422T082620
CREATED:20230925T010040Z
LAST-MODIFIED:20230925T010040Z
UID:18870-1712534400-1713052799@ccsonline.ca
SUMMARY:Integration 3 - Spring 2024
DESCRIPTION:The Spring learning circle of the Integration Year.
URL:http://ccsonline.ca/event/integration-3-spring-2024/
LOCATION:Woodsworth House\, 60 Maryland Street\, Winnipeg\, Manitoba\, Canada
CATEGORIES:Learning Circle
ATTACH;FMTTYPE=image/png:http://ccsonline.ca/wp-content/uploads/2017/06/integration-icon.png
ORGANIZER;CN="CCS":MAILTO:info@ccsonline.ca
END:VEVENT
BEGIN:VEVENT
DTSTART;VALUE=DATE:20240410
DTEND;VALUE=DATE:20240417
DTSTAMP:20260422T082620
CREATED:20230925T010252Z
LAST-MODIFIED:20230925T010252Z
UID:18872-1712707200-1713311999@ccsonline.ca
SUMMARY:Ages and Stages 2024
DESCRIPTION:EW02 Ages and Stages is an education and worship learning circle focusing on ministry with various age groups\, development theory\, curriculum\, youth ministry\, children’s ministry\, adult education\, ministry with seniors\, and intergenerational ministry. It will be an opportunity to explore Christian education and faith formation for every age. Register for EW02 Ages and Stages
URL:http://ccsonline.ca/event/ages-and-stages-2024/
LOCATION:Woodsworth House\, 60 Maryland Street\, Winnipeg\, Manitoba\, Canada
CATEGORIES:Learning Circle
ATTACH;FMTTYPE=image/png:http://ccsonline.ca/wp-content/uploads/2017/06/ed-ages-icon.png
ORGANIZER;CN="CCS":MAILTO:info@ccsonline.ca
END:VEVENT
BEGIN:VEVENT
DTSTART;VALUE=DATE:20240418
DTEND;VALUE=DATE:20240425
DTSTAMP:20260422T082620
CREATED:20230925T010508Z
LAST-MODIFIED:20230925T010508Z
UID:18874-1713398400-1714003199@ccsonline.ca
SUMMARY:Oppression and Resistance 2024
DESCRIPTION:SJ03 Oppression and Resistance is a social justice learning circle focusing on systems of oppressions (racism\, sexism\, heterosexism\, colonialism\, etc.)\, models of change\, and theologies of resistance (liberation theology\, feminist theology\, queer theology\, etc.). It will be an opportunity to explore the strategies of the marginalized to survive and make change. Register for SJ03 Oppression & Resistance
URL:http://ccsonline.ca/event/oppression-and-resistance-2024/
LOCATION:Woodsworth House\, 60 Maryland Street\, Winnipeg\, Manitoba\, Canada
CATEGORIES:Learning Circle
ATTACH;FMTTYPE=image/png:http://ccsonline.ca/wp-content/uploads/2017/06/sj-oppression-icon.png
ORGANIZER;CN="CCS":MAILTO:info@ccsonline.ca
END:VEVENT
END:VCALENDAR