BEGIN:VCALENDAR
VERSION:2.0
PRODID:-//Centre for Christian Studies - ECPv6.15.17.1//NONSGML v1.0//EN
CALSCALE:GREGORIAN
METHOD:PUBLISH
X-WR-CALNAME:Centre for Christian Studies
X-ORIGINAL-URL:http://ccsonline.ca
X-WR-CALDESC:Events for Centre for Christian Studies
REFRESH-INTERVAL;VALUE=DURATION:PT1H
X-Robots-Tag:noindex
X-PUBLISHED-TTL:PT1H
BEGIN:VTIMEZONE
TZID:America/Winnipeg
BEGIN:DAYLIGHT
TZOFFSETFROM:-0600
TZOFFSETTO:-0500
TZNAME:CDT
DTSTART:20220313T080000
END:DAYLIGHT
BEGIN:STANDARD
TZOFFSETFROM:-0500
TZOFFSETTO:-0600
TZNAME:CST
DTSTART:20221106T070000
END:STANDARD
BEGIN:DAYLIGHT
TZOFFSETFROM:-0600
TZOFFSETTO:-0500
TZNAME:CDT
DTSTART:20230312T080000
END:DAYLIGHT
BEGIN:STANDARD
TZOFFSETFROM:-0500
TZOFFSETTO:-0600
TZNAME:CST
DTSTART:20231105T070000
END:STANDARD
BEGIN:DAYLIGHT
TZOFFSETFROM:-0600
TZOFFSETTO:-0500
TZNAME:CDT
DTSTART:20240310T080000
END:DAYLIGHT
BEGIN:STANDARD
TZOFFSETFROM:-0500
TZOFFSETTO:-0600
TZNAME:CST
DTSTART:20241103T070000
END:STANDARD
END:VTIMEZONE
BEGIN:VEVENT
DTSTART;VALUE=DATE:20231011
DTEND;VALUE=DATE:20231018
DTSTAMP:20260422T180852
CREATED:20230925T004401Z
LAST-MODIFIED:20230925T004401Z
UID:18862-1696982400-1697587199@ccsonline.ca
SUMMARY:Ministry as Storytelling 2023
DESCRIPTION:EW01 Ministry as Storytelling is an education and worship learning circle focusing on story in preaching and teaching\, scripture as narrative\, and the arts in ministry. Register for EW01 Ministry as Storytelling
URL:http://ccsonline.ca/event/ministry-as-storytelling-2023/
LOCATION:Woodsworth House\, 60 Maryland Street\, Winnipeg\, Manitoba\, Canada
CATEGORIES:Learning Circle
ATTACH;FMTTYPE=image/png:http://ccsonline.ca/wp-content/uploads/2017/06/ed-storytelling-icon.png
ORGANIZER;CN="CCS":MAILTO:info@ccsonline.ca
END:VEVENT
BEGIN:VEVENT
DTSTART;VALUE=DATE:20231019
DTEND;VALUE=DATE:20231026
DTSTAMP:20260422T180852
CREATED:20230925T004707Z
LAST-MODIFIED:20230925T004707Z
UID:18864-1697673600-1698278399@ccsonline.ca
SUMMARY:Spiritual Practice 2023
DESCRIPTION:SC05 Spiritual Practice is a spiritual care learning circle focusing on the history and diversity of Christian spiritual practices\, private devotion and communal spirituality\, discipleship\, and companioning.  Register for SC05 Spiritual Practice
URL:http://ccsonline.ca/event/spiritual-practice-2023/
LOCATION:Woodsworth House\, 60 Maryland Street\, Winnipeg\, Manitoba\, Canada
CATEGORIES:Learning Circle
ATTACH;FMTTYPE=image/png:http://ccsonline.ca/wp-content/uploads/2019/04/sc-spiritualcare-icon.png
ORGANIZER;CN="CCS":MAILTO:info@ccsonline.ca
END:VEVENT
END:VCALENDAR