BEGIN:VCALENDAR
VERSION:2.0
PRODID:-//Centre for Christian Studies - ECPv6.15.17.1//NONSGML v1.0//EN
CALSCALE:GREGORIAN
METHOD:PUBLISH
X-ORIGINAL-URL:http://ccsonline.ca
X-WR-CALDESC:Events for Centre for Christian Studies
REFRESH-INTERVAL;VALUE=DURATION:PT1H
X-Robots-Tag:noindex
X-PUBLISHED-TTL:PT1H
BEGIN:VTIMEZONE
TZID:America/Winnipeg
BEGIN:DAYLIGHT
TZOFFSETFROM:-0600
TZOFFSETTO:-0500
TZNAME:CDT
DTSTART:20220313T080000
END:DAYLIGHT
BEGIN:STANDARD
TZOFFSETFROM:-0500
TZOFFSETTO:-0600
TZNAME:CST
DTSTART:20221106T070000
END:STANDARD
BEGIN:DAYLIGHT
TZOFFSETFROM:-0600
TZOFFSETTO:-0500
TZNAME:CDT
DTSTART:20230312T080000
END:DAYLIGHT
BEGIN:STANDARD
TZOFFSETFROM:-0500
TZOFFSETTO:-0600
TZNAME:CST
DTSTART:20231105T070000
END:STANDARD
BEGIN:DAYLIGHT
TZOFFSETFROM:-0600
TZOFFSETTO:-0500
TZNAME:CDT
DTSTART:20240310T080000
END:DAYLIGHT
BEGIN:STANDARD
TZOFFSETFROM:-0500
TZOFFSETTO:-0600
TZNAME:CST
DTSTART:20241103T070000
END:STANDARD
END:VTIMEZONE
BEGIN:VEVENT
DTSTART;VALUE=DATE:20230509
DTEND;VALUE=DATE:20230616
DTSTAMP:20260423T005651
CREATED:20230427T174932Z
LAST-MODIFIED:20230427T175145Z
UID:18472-1683590400-1686873599@ccsonline.ca
SUMMARY:Ministry as Listening 2023
DESCRIPTION:A 6-week online Spiritual Care learning circle on ministry of presence\, pastoral visiting\, prayer\, counseling and spiritual direction\, pastoral ethics and boundaries. More information…
URL:http://ccsonline.ca/event/ministry-as-listening-2023/
LOCATION:Online
CATEGORIES:Learning Circle
ATTACH;FMTTYPE=image/png:http://ccsonline.ca/wp-content/uploads/2019/04/sc-listening-icon2.png
ORGANIZER;CN="CCS":MAILTO:info@ccsonline.ca
END:VEVENT
BEGIN:VEVENT
DTSTART;VALUE=DATE:20230619
DTEND;VALUE=DATE:20230701
DTSTAMP:20260423T005651
CREATED:20230427T175708Z
LAST-MODIFIED:20230528T174827Z
UID:18476-1687132800-1688169599@ccsonline.ca
SUMMARY:Learning on Purpose 2023
DESCRIPTION:Our 2-week introduction to learning in community\, self-awareness\, group skills\, conflict\, making change\, and approaches to theology\, scripture\, pastoral care\, education\, worship\, and social justice. Learning on Purpose can be taken as the beginning of the Diaconal Ministries program or as a stand-alone continuing studies course for anyone wanting to deepen their faith-in-action. This year in-person in Winnipeg. More information…
URL:http://ccsonline.ca/event/learning-on-purpose-2023/
LOCATION:Centre for Christian Studies\, 60 Maryland St\, Winnipeg\, MB\, R3G 1K7\, Canada
CATEGORIES:Learning Circle
ATTACH;FMTTYPE=image/png:http://ccsonline.ca/wp-content/uploads/2017/06/learning-on-purpose-icon.png
ORGANIZER;CN="CCS":MAILTO:info@ccsonline.ca
END:VEVENT
END:VCALENDAR