BEGIN:VCALENDAR
VERSION:2.0
PRODID:-//Centre for Christian Studies - ECPv6.15.17.1//NONSGML v1.0//EN
CALSCALE:GREGORIAN
METHOD:PUBLISH
X-ORIGINAL-URL:http://ccsonline.ca
X-WR-CALDESC:Events for Centre for Christian Studies
REFRESH-INTERVAL;VALUE=DURATION:PT1H
X-Robots-Tag:noindex
X-PUBLISHED-TTL:PT1H
BEGIN:VTIMEZONE
TZID:America/Winnipeg
BEGIN:DAYLIGHT
TZOFFSETFROM:-0600
TZOFFSETTO:-0500
TZNAME:CDT
DTSTART:20210314T080000
END:DAYLIGHT
BEGIN:STANDARD
TZOFFSETFROM:-0500
TZOFFSETTO:-0600
TZNAME:CST
DTSTART:20211107T070000
END:STANDARD
BEGIN:DAYLIGHT
TZOFFSETFROM:-0600
TZOFFSETTO:-0500
TZNAME:CDT
DTSTART:20220313T080000
END:DAYLIGHT
BEGIN:STANDARD
TZOFFSETFROM:-0500
TZOFFSETTO:-0600
TZNAME:CST
DTSTART:20221106T070000
END:STANDARD
BEGIN:DAYLIGHT
TZOFFSETFROM:-0600
TZOFFSETTO:-0500
TZNAME:CDT
DTSTART:20230312T080000
END:DAYLIGHT
BEGIN:STANDARD
TZOFFSETFROM:-0500
TZOFFSETTO:-0600
TZNAME:CST
DTSTART:20231105T070000
END:STANDARD
END:VTIMEZONE
BEGIN:VEVENT
DTSTART;VALUE=DATE:20220322
DTEND;VALUE=DATE:20220329
DTSTAMP:20260424T011143
CREATED:20211125T221720Z
LAST-MODIFIED:20220225T212029Z
UID:17287-1647907200-1648511999@ccsonline.ca
SUMMARY:Relationships 2022
DESCRIPTION:An intensive Spiritual Care learning circle on intimate and familial relationships\, sexuality and gender\, family systems\, weddings\, covenants\, relationship break-ups\, and the role of minister as support.
URL:http://ccsonline.ca/event/relationships-2022/
LOCATION:Woodsworth House\, 60 Maryland Street\, Winnipeg\, Manitoba\, Canada
CATEGORIES:Learning Circle
ATTACH;FMTTYPE=image/png:http://ccsonline.ca/wp-content/uploads/2017/06/sc-relationships-icon.png
ORGANIZER;CN="CCS":MAILTO:info@ccsonline.ca
END:VEVENT
BEGIN:VEVENT
DTSTART;VALUE=DATE:20220331
DTEND;VALUE=DATE:20220407
DTSTAMP:20260424T011143
CREATED:20211125T221912Z
LAST-MODIFIED:20211125T221912Z
UID:17289-1648684800-1649289599@ccsonline.ca
SUMMARY:Power and Privilege 2022
DESCRIPTION:An intensive Social Justice learning circle on social location\, individual and systemic power\, social analysis\, and the role of the prophet.
URL:http://ccsonline.ca/event/power-and-privilege-2022/
LOCATION:Woodsworth House\, 60 Maryland Street\, Winnipeg\, Manitoba\, Canada
CATEGORIES:Learning Circle
ATTACH;FMTTYPE=image/png:http://ccsonline.ca/wp-content/uploads/2017/06/sj-power-icon.png
ORGANIZER;CN="CCS":MAILTO:info@ccsonline.ca
END:VEVENT
END:VCALENDAR