BEGIN:VCALENDAR
VERSION:2.0
PRODID:-//Centre for Christian Studies - ECPv6.15.20//NONSGML v1.0//EN
CALSCALE:GREGORIAN
METHOD:PUBLISH
X-ORIGINAL-URL:http://ccsonline.ca
X-WR-CALDESC:Events for Centre for Christian Studies
REFRESH-INTERVAL;VALUE=DURATION:PT1H
X-Robots-Tag:noindex
X-PUBLISHED-TTL:PT1H
BEGIN:VTIMEZONE
TZID:America/Winnipeg
BEGIN:DAYLIGHT
TZOFFSETFROM:-0600
TZOFFSETTO:-0500
TZNAME:CDT
DTSTART:20190310T080000
END:DAYLIGHT
BEGIN:STANDARD
TZOFFSETFROM:-0500
TZOFFSETTO:-0600
TZNAME:CST
DTSTART:20191103T070000
END:STANDARD
BEGIN:DAYLIGHT
TZOFFSETFROM:-0600
TZOFFSETTO:-0500
TZNAME:CDT
DTSTART:20200308T080000
END:DAYLIGHT
BEGIN:STANDARD
TZOFFSETFROM:-0500
TZOFFSETTO:-0600
TZNAME:CST
DTSTART:20201101T070000
END:STANDARD
BEGIN:DAYLIGHT
TZOFFSETFROM:-0600
TZOFFSETTO:-0500
TZNAME:CDT
DTSTART:20210314T080000
END:DAYLIGHT
BEGIN:STANDARD
TZOFFSETFROM:-0500
TZOFFSETTO:-0600
TZNAME:CST
DTSTART:20211107T070000
END:STANDARD
END:VTIMEZONE
BEGIN:VEVENT
DTSTART;VALUE=DATE:20200512
DTEND;VALUE=DATE:20200619
DTSTAMP:20260425T104345
CREATED:20190606T155409Z
LAST-MODIFIED:20200106T162000Z
UID:15355-1589241600-1592524799@ccsonline.ca
SUMMARY:Relationships 2020 (online)
DESCRIPTION:A spiritual care online learning circle on intimate and familial relationships\, sexuality and gender\, family systems\, weddings\, covenants\, relationship break-ups\, and the role of minister as support. \nThe course will involve video conferences twice weekly via Zoom\, on Wednesdays and Fridays at 3pm Central time as well as asynchronous online discussions and activities throughout the week. \nMay 12 and June 18\, 2020 \nFor more information\, click here.
URL:http://ccsonline.ca/event/relationships-2020-online/
CATEGORIES:Learning Circle
ATTACH;FMTTYPE=image/png:http://ccsonline.ca/wp-content/uploads/2017/06/sc-relationships-icon.png
ORGANIZER;CN="CCS":MAILTO:info@ccsonline.ca
END:VEVENT
END:VCALENDAR